BEGIN:VCALENDAR
VERSION:2.0
PRODID:-//Natural Lands - ECPv6.15.18//NONSGML v1.0//EN
CALSCALE:GREGORIAN
METHOD:PUBLISH
X-ORIGINAL-URL:https://wp.natlands.org
X-WR-CALDESC:Events for Natural Lands
REFRESH-INTERVAL;VALUE=DURATION:PT1H
X-Robots-Tag:noindex
X-PUBLISHED-TTL:PT1H
BEGIN:VTIMEZONE
TZID:America/New_York
BEGIN:DAYLIGHT
TZOFFSETFROM:-0500
TZOFFSETTO:-0400
TZNAME:EDT
DTSTART:20240310T070000
END:DAYLIGHT
BEGIN:STANDARD
TZOFFSETFROM:-0400
TZOFFSETTO:-0500
TZNAME:EST
DTSTART:20241103T060000
END:STANDARD
BEGIN:DAYLIGHT
TZOFFSETFROM:-0500
TZOFFSETTO:-0400
TZNAME:EDT
DTSTART:20250309T070000
END:DAYLIGHT
BEGIN:STANDARD
TZOFFSETFROM:-0400
TZOFFSETTO:-0500
TZNAME:EST
DTSTART:20251102T060000
END:STANDARD
BEGIN:DAYLIGHT
TZOFFSETFROM:-0500
TZOFFSETTO:-0400
TZNAME:EDT
DTSTART:20260308T070000
END:DAYLIGHT
BEGIN:STANDARD
TZOFFSETFROM:-0400
TZOFFSETTO:-0500
TZNAME:EST
DTSTART:20261101T060000
END:STANDARD
END:VTIMEZONE
BEGIN:VEVENT
DTSTART;TZID=America/New_York:20250817T080000
DTEND;TZID=America/New_York:20250817T103000
DTSTAMP:20260420T163847
CREATED:20250530T190957Z
LAST-MODIFIED:20250813T192728Z
UID:10000816-1755417600-1755426600@wp.natlands.org
SUMMARY:Volunteer - Nurture Nature
DESCRIPTION:Love nature and want to lend her a helping hand? Join fellow volunteers in removing invasives\, nurturing native plants\, or restoring habitat. Projects vary\, but good fun (and dirt) is guaranteed! Natural Lands cares for more than 23\,000 acres and 120 miles of trails\, and we couldn’t do it without volunteers like you. \nVolunteering with Natural Lands is a great way to learn more about the natural world\, give your time to a great cause\, and connect with enthusiastic\, like-minded people. \nThe health and safety of staff and volunteers is our highest priority during this volunteer event. Please review “before you go” details. \nCapacity is limited for this small-group event\, and pre-registration is required. If you sign-up\, please plan to participate. If you need to cancel\, please let us know so another volunteer can attend. All are welcome\, ages 12 and up. Minors under age 18 must be accompanied by an adult parent/guardian. Adult(s) and the Minor(s) for whom they are responsible\, should register in the same transaction. \nMeeting location: Opalanie Park Parking Lot 1422 St Matthews Rd\, Chester Springs\, PA 19425
URL:https://wp.natlands.org/event/volunteer-bryncoed-2025-0817/
LOCATION:Bryn Coed Preserve\, Flint Road\, Chester Springs\, Pennsylvania\, 19425
CATEGORIES:volunteer
ATTACH;FMTTYPE=image/jpeg:https://wp.natlands.org/wp-content/uploads/2025/01/Stoneleigh-SG-May-23-2019-_HRI2327-046_Large-e1582141638918.jpg
END:VEVENT
END:VCALENDAR