BEGIN:VCALENDAR
VERSION:2.0
PRODID:-//Natural Lands - ECPv6.15.18//NONSGML v1.0//EN
CALSCALE:GREGORIAN
METHOD:PUBLISH
X-ORIGINAL-URL:https://wp.natlands.org
X-WR-CALDESC:Events for Natural Lands
REFRESH-INTERVAL;VALUE=DURATION:PT1H
X-Robots-Tag:noindex
X-PUBLISHED-TTL:PT1H
BEGIN:VTIMEZONE
TZID:America/New_York
BEGIN:DAYLIGHT
TZOFFSETFROM:-0500
TZOFFSETTO:-0400
TZNAME:EDT
DTSTART:20240310T070000
END:DAYLIGHT
BEGIN:STANDARD
TZOFFSETFROM:-0400
TZOFFSETTO:-0500
TZNAME:EST
DTSTART:20241103T060000
END:STANDARD
BEGIN:DAYLIGHT
TZOFFSETFROM:-0500
TZOFFSETTO:-0400
TZNAME:EDT
DTSTART:20250309T070000
END:DAYLIGHT
BEGIN:STANDARD
TZOFFSETFROM:-0400
TZOFFSETTO:-0500
TZNAME:EST
DTSTART:20251102T060000
END:STANDARD
BEGIN:DAYLIGHT
TZOFFSETFROM:-0500
TZOFFSETTO:-0400
TZNAME:EDT
DTSTART:20260308T070000
END:DAYLIGHT
BEGIN:STANDARD
TZOFFSETFROM:-0400
TZOFFSETTO:-0500
TZNAME:EST
DTSTART:20261101T060000
END:STANDARD
END:VTIMEZONE
BEGIN:VEVENT
DTSTART;TZID=America/New_York:20250701T083000
DTEND;TZID=America/New_York:20250701T113000
DTSTAMP:20260422T112743
CREATED:20250611T191658Z
LAST-MODIFIED:20250611T191658Z
UID:10000818-1751358600-1751369400@wp.natlands.org
SUMMARY:Volunteer - Summer Gardening
DESCRIPTION:Did you know more than 40\,000 plants thrive at Stoneleigh: a natural garden? Grab gloves and join staff and fellow volunteers in weeding\, planting\, mulching\, and other seasonal garden projects. \nVolunteering with Natural Lands is a great way to learn more about the natural world\, give your time to a great cause\, and connect with like-minded people. \nThe health and safety of staff and volunteers is our highest priority during this volunteer event. Please review “before you go” details. \nCapacity is limited for this small-group event\, and pre-registration is required. If you sign-up\, please show-up. If you need to cancel\, please let us know so another volunteer can attend. All are welcome\, ages 12 and up. Children age 12-14 must be accompanied by an adult.
URL:https://wp.natlands.org/event/volunteer-stoneleigh-2025-0701/
LOCATION:Stoneleigh: <em>a natural garden</em>\, 1829 County Line Road\, Villanova\, Pennsylvania\, 19085
CATEGORIES:volunteer
ATTACH;FMTTYPE=image/jpeg:https://wp.natlands.org/wp-content/uploads/2025/01/Fox-sRGB-22-medium-e1741194907298.jpg
END:VEVENT
BEGIN:VEVENT
DTSTART;TZID=America/New_York:20250703T083000
DTEND;TZID=America/New_York:20250703T113000
DTSTAMP:20260422T112743
CREATED:20250611T192226Z
LAST-MODIFIED:20250611T192226Z
UID:10000819-1751531400-1751542200@wp.natlands.org
SUMMARY:Volunteer - Summer Gardening
DESCRIPTION:Did you know more than 40\,000 plants thrive at Stoneleigh: a natural garden? Grab gloves and join staff and fellow volunteers in weeding\, planting\, mulching\, and other seasonal garden projects. \nVolunteering with Natural Lands is a great way to learn more about the natural world\, give your time to a great cause\, and connect with like-minded people. \nThe health and safety of staff and volunteers is our highest priority during this volunteer event. Please review “before you go” details. \nCapacity is limited for this small-group event\, and pre-registration is required. If you sign-up\, please show-up. If you need to cancel\, please let us know so another volunteer can attend. All are welcome\, ages 12 and up. Children age 12-14 must be accompanied by an adult.
URL:https://wp.natlands.org/event/volunteer-stoneleigh-2025-0703/
LOCATION:Stoneleigh: <em>a natural garden</em>\, 1829 County Line Road\, Villanova\, Pennsylvania\, 19085
CATEGORIES:volunteer
ATTACH;FMTTYPE=image/jpeg:https://wp.natlands.org/wp-content/uploads/2025/01/Fox-sRGB-76-medium-e1741194880648.jpg
END:VEVENT
BEGIN:VEVENT
DTSTART;TZID=America/New_York:20250708T083000
DTEND;TZID=America/New_York:20250708T113000
DTSTAMP:20260422T112743
CREATED:20250611T192732Z
LAST-MODIFIED:20250611T192732Z
UID:10000820-1751963400-1751974200@wp.natlands.org
SUMMARY:Volunteer - Summer Gardening
DESCRIPTION:Did you know more than 40\,000 plants thrive at Stoneleigh: a natural garden? Grab gloves and join staff and fellow volunteers in weeding\, planting\, mulching\, and other seasonal garden projects. \nVolunteering with Natural Lands is a great way to learn more about the natural world\, give your time to a great cause\, and connect with like-minded people. \nThe health and safety of staff and volunteers is our highest priority during this volunteer event. Please review “before you go” details. \nCapacity is limited for this small-group event\, and pre-registration is required. If you sign-up\, please show-up. If you need to cancel\, please let us know so another volunteer can attend. All are welcome\, ages 12 and up. Children age 12-14 must be accompanied by an adult.
URL:https://wp.natlands.org/event/volunteer-stoneleigh-2025-0708/
LOCATION:Stoneleigh: <em>a natural garden</em>\, 1829 County Line Road\, Villanova\, Pennsylvania\, 19085
CATEGORIES:volunteer
ATTACH;FMTTYPE=image/jpeg:https://wp.natlands.org/wp-content/uploads/2025/01/DSC0241-medium-e1741272596872.jpg
END:VEVENT
BEGIN:VEVENT
DTSTART;TZID=America/New_York:20250710T083000
DTEND;TZID=America/New_York:20250710T113000
DTSTAMP:20260422T112743
CREATED:20250611T193632Z
LAST-MODIFIED:20250611T193632Z
UID:10000821-1752136200-1752147000@wp.natlands.org
SUMMARY:Volunteer - Summer Gardening
DESCRIPTION:Did you know more than 40\,000 plants thrive at Stoneleigh: a natural garden? Grab gloves and join staff and fellow volunteers in weeding\, planting\, mulching\, and other seasonal garden projects. \nVolunteering with Natural Lands is a great way to learn more about the natural world\, give your time to a great cause\, and connect with like-minded people. \nThe health and safety of staff and volunteers is our highest priority during this volunteer event. Please review “before you go” details. \nCapacity is limited for this small-group event\, and pre-registration is required. If you sign-up\, please show-up. If you need to cancel\, please let us know so another volunteer can attend. All are welcome\, ages 12 and up. Children age 12-14 must be accompanied by an adult.
URL:https://wp.natlands.org/event/volunteer-stoneleigh-2025-0710/
LOCATION:Stoneleigh: <em>a natural garden</em>\, 1829 County Line Road\, Villanova\, Pennsylvania\, 19085
CATEGORIES:volunteer
ATTACH;FMTTYPE=image/jpeg:https://wp.natlands.org/wp-content/uploads/2025/01/Fox-sRGB-22-medium-e1741194907298.jpg
END:VEVENT
BEGIN:VEVENT
DTSTART;TZID=America/New_York:20250712T080000
DTEND;TZID=America/New_York:20250712T103000
DTSTAMP:20260422T112743
CREATED:20250507T183312Z
LAST-MODIFIED:20250710T131110Z
UID:10000777-1752307200-1752316200@wp.natlands.org
SUMMARY:Volunteer - Care for Nature - Time Change
DESCRIPTION:This event’s start time has been changed to 8 am due to heat.  \nLove nature and want to lend her a helping hand? Grab gloves and join fellow volunteers in nurturing nature. Good fun (and dirt) is guaranteed! Natural Lands cares for more than 23\,000 acres and 120 miles of trails\, and we couldn’t do it without volunteers like you. \nVolunteering with Natural Lands is a great way to learn more about the natural world\, give your time to a great cause\, and connect with enthusiastic\, like-minded people. \nThe health and safety of staff and volunteers is our highest priority during this volunteer event. Please review “before you go” details. \nCapacity is limited for this small-group event. If you sign-up\, please show up. If you need to cancel\, please let us know so another volunteer can attend. All are welcome\, ages 12 and up. Minors ages 12-17 must be accompanied by an adult and registered in the same transaction with their guardian.
URL:https://wp.natlands.org/event/volunteer-gwynedd-2025-0712/
LOCATION:Gwynedd Preserve\, 640 Swedesford Road\, North Wales\, Pennsylvania\, 19454
CATEGORIES:volunteer
ATTACH;FMTTYPE=image/jpeg:https://wp.natlands.org/wp-content/uploads/2025/01/PECO-Volunteers-Hildacy-2023-0420-by-Debbie-Beer-5-medium-e1741270900693.jpg
END:VEVENT
BEGIN:VEVENT
DTSTART;TZID=America/New_York:20250713T090000
DTEND;TZID=America/New_York:20250713T113000
DTSTAMP:20260422T112743
CREATED:20250507T184719Z
LAST-MODIFIED:20250528T162656Z
UID:10000779-1752397200-1752406200@wp.natlands.org
SUMMARY:Volunteer - Give Back to Nature
DESCRIPTION:Love nature and want to lend her a helping hand? Grab gloves and join fellow volunteers in nurturing nature. Good fun (and dirt) is guaranteed! Natural Lands cares for more than 23\,000 acres and 120 miles of trails\, and we couldn’t do it without volunteers like you. \nVolunteering with Natural Lands is a great way to learn more about the natural world\, give your time to a great cause\, and connect with enthusiastic\, like-minded people. \nThe health and safety of staff and volunteers is our highest priority during this volunteer event. Please review “before you go” details. \nCapacity is limited for this small-group event. If you sign-up\, please show up. If you need to cancel\, please let us know so another volunteer can attend. All are welcome\, ages 12 and up. Minors ages 12-17 must be accompanied by an adult and registered in the same transaction with their guardians.
URL:https://wp.natlands.org/event/volunteer-cheslen-2025-0713/
LOCATION:ChesLen Preserve\, 1199 Cannery Road\, Coatesville\, Pennsylvania\, 19320
CATEGORIES:volunteer
ATTACH;FMTTYPE=image/jpeg:https://wp.natlands.org/wp-content/uploads/2025/01/Volunteers-Crane-Payment-Innovations-Stroud-2024-0516-by-Debbie-Beer-9-medium-e1741270959857.jpg
END:VEVENT
BEGIN:VEVENT
DTSTART;TZID=America/New_York:20250714T090000
DTEND;TZID=America/New_York:20250714T113000
DTSTAMP:20260422T112743
CREATED:20250507T185903Z
LAST-MODIFIED:20250528T161633Z
UID:10000780-1752483600-1752492600@wp.natlands.org
SUMMARY:Volunteer - Garden Tenders
DESCRIPTION:Love nature and want to lend her a helping hand? Grab gloves and join fellow volunteers in nurturing nature. Good fun (and dirt) is guaranteed! Natural Lands cares for more than 23\,000 acres and 120 miles of trails\, and we couldn’t do it without volunteers like you. \nVolunteering with Natural Lands is a great way to learn more about the natural world\, give your time to a great cause\, and connect with enthusiastic\, like-minded people. \nThe health and safety of staff and volunteers is our highest priority during this volunteer event. Please review “before you go” details. \nCapacity is limited for this small-group event. If you sign-up\, please show up. If you need to cancel\, please let us know so another volunteer can attend. All are welcome\, ages 12 and up. Minors ages 12-17 must be accompanied by an adult and registered in the same transaction with their guardians.
URL:https://wp.natlands.org/event/volunteer-cheslengarden-2025-0714/
LOCATION:ChesLen Preserve\, 1199 Cannery Road\, Coatesville\, Pennsylvania\, 19320
CATEGORIES:volunteer
ATTACH;FMTTYPE=image/jpeg:https://wp.natlands.org/wp-content/uploads/2025/01/Stoneleigh-SG-May-23-2019-_HRI2488-080-scaled-1-e1741272751961.jpg
END:VEVENT
BEGIN:VEVENT
DTSTART;TZID=America/New_York:20250715T083000
DTEND;TZID=America/New_York:20250715T113000
DTSTAMP:20260422T112743
CREATED:20250611T194134Z
LAST-MODIFIED:20250611T194134Z
UID:10000822-1752568200-1752579000@wp.natlands.org
SUMMARY:Volunteer - Summer Gardening
DESCRIPTION:Did you know more than 40\,000 plants thrive at Stoneleigh: a natural garden? Grab gloves and join staff and fellow volunteers in weeding\, planting\, mulching\, and other seasonal garden projects. \nVolunteering with Natural Lands is a great way to learn more about the natural world\, give your time to a great cause\, and connect with like-minded people. \nThe health and safety of staff and volunteers is our highest priority during this volunteer event. Please review “before you go” details. \nCapacity is limited for this small-group event\, and pre-registration is required. If you sign-up\, please show-up. If you need to cancel\, please let us know so another volunteer can attend. All are welcome\, ages 12 and up. Children age 12-14 must be accompanied by an adult.
URL:https://wp.natlands.org/event/volunteer-stoneleigh-2025-0715/
LOCATION:Stoneleigh: <em>a natural garden</em>\, 1829 County Line Road\, Villanova\, Pennsylvania\, 19085
CATEGORIES:volunteer
ATTACH;FMTTYPE=image/jpeg:https://wp.natlands.org/wp-content/uploads/2025/01/Fox-sRGB-76-medium-e1741194880648.jpg
END:VEVENT
BEGIN:VEVENT
DTSTART;TZID=America/New_York:20250717T083000
DTEND;TZID=America/New_York:20250717T113000
DTSTAMP:20260422T112743
CREATED:20250611T194726Z
LAST-MODIFIED:20250611T194726Z
UID:10000823-1752741000-1752751800@wp.natlands.org
SUMMARY:Volunteer - Summer Gardening
DESCRIPTION:Did you know more than 40\,000 plants thrive at Stoneleigh: a natural garden? Grab gloves and join staff and fellow volunteers in weeding\, planting\, mulching\, and other seasonal garden projects. \nVolunteering with Natural Lands is a great way to learn more about the natural world\, give your time to a great cause\, and connect with like-minded people. \nThe health and safety of staff and volunteers is our highest priority during this volunteer event. Please review “before you go” details. \nCapacity is limited for this small-group event\, and pre-registration is required. If you sign-up\, please show-up. If you need to cancel\, please let us know so another volunteer can attend. All are welcome\, ages 12 and up. Children age 12-14 must be accompanied by an adult.
URL:https://wp.natlands.org/event/volunteer-stoneleigh-2025-0717/
LOCATION:Stoneleigh: <em>a natural garden</em>\, 1829 County Line Road\, Villanova\, Pennsylvania\, 19085
CATEGORIES:volunteer
ATTACH;FMTTYPE=image/jpeg:https://wp.natlands.org/wp-content/uploads/2025/01/DSC0241-medium-e1741272596872.jpg
END:VEVENT
BEGIN:VEVENT
DTSTART;TZID=America/New_York:20250719T090000
DTEND;TZID=America/New_York:20250719T113000
DTSTAMP:20260422T112743
CREATED:20250507T180517Z
LAST-MODIFIED:20250528T161839Z
UID:10000772-1752915600-1752924600@wp.natlands.org
SUMMARY:Volunteer - Nurture Nature
DESCRIPTION:Love nature and want to lend her a helping hand? Grab gloves and join fellow volunteers in removing invasives\, nurturing native plants\, or restoring habitat. Projects vary\, but good fun (and dirt) is guaranteed! Natural Lands cares for more than 23\,000 acres and 120 miles of trails\, and we couldn’t do it without volunteers like you. \nVolunteering with Natural Lands is a great way to learn more about the natural world\, give your time to a great cause\, and connect with enthusiastic\, like-minded people. \nThe health and safety of staff and volunteers is our highest priority during this volunteer event. Please review “before you go” details. \nCapacity is limited for this small-group event. If you sign-up\, please show up. If you need to cancel\, please let us know so another volunteer can attend. All are welcome\, ages 12 and up. Minors age 12-17 must be accompanied by an adult and registered in the same transaction as their guardian.
URL:https://wp.natlands.org/event/volunteer-stroud-2025-0719/
LOCATION:Stroud Preserve\, 454 North Creek Road\, West Chester\, Pennsylvania\, 19382
CATEGORIES:volunteer
ATTACH;FMTTYPE=image/jpeg:https://wp.natlands.org/wp-content/uploads/2025/03/Mulch-Madness-Photo-scaled-e1741031064579.jpg
END:VEVENT
BEGIN:VEVENT
DTSTART;TZID=America/New_York:20250719T090000
DTEND;TZID=America/New_York:20250719T113000
DTSTAMP:20260422T112743
CREATED:20250507T190927Z
LAST-MODIFIED:20250718T141203Z
UID:10000783-1752915600-1752924600@wp.natlands.org
SUMMARY:Volunteer - Give Back to Nature - CANCELLED
DESCRIPTION:This event is cancelled please join us for a future volunteer opportunity. \nLove nature and want to lend her a helping hand? Grab gloves and join fellow volunteers in nurturing nature. Good fun (and dirt) is guaranteed! Natural Lands cares for more than 23\,000 acres and 120 miles of trails\, and we couldn’t do it without volunteers like you. \nVolunteering with Natural Lands is a great way to learn more about the natural world\, give your time to a great cause\, and connect with enthusiastic\, like-minded people. \nThe health and safety of staff and volunteers is our highest priority during this volunteer event. Please review “before you go” details. \nCapacity is limited for this small-group event. If you sign-up\, please show up. If you need to cancel\, please let us know so another volunteer can attend. All are welcome\, ages 12 and up. Minors ages 12-17 must be accompanied by an adult and registered in the same transaction with their guardian.
URL:https://wp.natlands.org/event/volunteer-hildacy-2025-0719/
LOCATION:Hildacy Preserve\, 1031 Palmers Mill Road\, Media\, Pennsylvania\, 19063
CATEGORIES:volunteer
ATTACH;FMTTYPE=image/jpeg:https://wp.natlands.org/wp-content/uploads/2025/01/Volunteer-Gardeners-Hildacy-2020-0316-by-Debbie-Beer-2-edit-e1741274804189.jpg
END:VEVENT
BEGIN:VEVENT
DTSTART;TZID=America/New_York:20250720T090000
DTEND;TZID=America/New_York:20250720T113000
DTSTAMP:20260422T112743
CREATED:20250507T182733Z
LAST-MODIFIED:20250528T163008Z
UID:10000776-1753002000-1753011000@wp.natlands.org
SUMMARY:Volunteer - Nurture Nature
DESCRIPTION:Love nature and want to lend her a helping hand? Join fellow volunteers in removing invasives\, nurturing native plants\, or restoring habitat. Projects vary\, but good fun (and dirt) is guaranteed! Natural Lands cares for more than 23\,000 acres and 120 miles of trails\, and we couldn’t do it without volunteers like you. \nVolunteering with Natural Lands is a great way to learn more about the natural world\, give your time to a great cause\, and connect with enthusiastic\, like-minded people. \nThe health and safety of staff and volunteers is our highest priority during this volunteer event. Please review “before you go” details. \nCapacity is limited for this small-group event\, and pre-registration is required. If you sign-up\, please plan to participate. If you need to cancel\, please let us know so another volunteer can attend. All are welcome\, ages 12 and up. Minors under age 18 must be accompanied by an adult parent/guardian. Adult(s) and the Minor(s) for whom they are responsible\, should register in the same transaction.
URL:https://wp.natlands.org/event/volunteer-bryncoed-2025-0720/
LOCATION:Bryn Coed Preserve\, Flint Road\, Chester Springs\, Pennsylvania\, 19425
CATEGORIES:volunteer
ATTACH;FMTTYPE=image/jpeg:https://wp.natlands.org/wp-content/uploads/2025/03/Mulch-Madness-Photo-scaled-e1741031064579.jpg
END:VEVENT
BEGIN:VEVENT
DTSTART;TZID=America/New_York:20250722T083000
DTEND;TZID=America/New_York:20250722T113000
DTSTAMP:20260422T112743
CREATED:20250612T134048Z
LAST-MODIFIED:20250612T134048Z
UID:10000824-1753173000-1753183800@wp.natlands.org
SUMMARY:Volunteer - Summer Gardening
DESCRIPTION:Did you know more than 40\,000 plants thrive at Stoneleigh: a natural garden? Grab gloves and join staff and fellow volunteers in weeding\, planting\, mulching\, and other seasonal garden projects. \nVolunteering with Natural Lands is a great way to learn more about the natural world\, give your time to a great cause\, and connect with like-minded people. \nThe health and safety of staff and volunteers is our highest priority during this volunteer event. Please review “before you go” details. \nCapacity is limited for this small-group event\, and pre-registration is required. If you sign-up\, please show-up. If you need to cancel\, please let us know so another volunteer can attend. All are welcome\, ages 12 and up. Children age 12-14 must be accompanied by an adult.
URL:https://wp.natlands.org/event/volunteer-stoneleigh-2025-0722/
LOCATION:Stoneleigh: <em>a natural garden</em>\, 1829 County Line Road\, Villanova\, Pennsylvania\, 19085
CATEGORIES:volunteer
ATTACH;FMTTYPE=image/jpeg:https://wp.natlands.org/wp-content/uploads/2025/01/Fox-sRGB-22-medium-e1741194907298.jpg
END:VEVENT
BEGIN:VEVENT
DTSTART;TZID=America/New_York:20250724T083000
DTEND;TZID=America/New_York:20250724T113000
DTSTAMP:20260422T112743
CREATED:20250612T135211Z
LAST-MODIFIED:20250612T135211Z
UID:10000825-1753345800-1753356600@wp.natlands.org
SUMMARY:Volunteer - Summer Gardening
DESCRIPTION:Did you know more than 40\,000 plants thrive at Stoneleigh: a natural garden? Grab gloves and join staff and fellow volunteers in weeding\, planting\, mulching\, and other seasonal garden projects. \nVolunteering with Natural Lands is a great way to learn more about the natural world\, give your time to a great cause\, and connect with like-minded people. \nThe health and safety of staff and volunteers is our highest priority during this volunteer event. Please review “before you go” details. \nCapacity is limited for this small-group event\, and pre-registration is required. If you sign-up\, please show-up. If you need to cancel\, please let us know so another volunteer can attend. All are welcome\, ages 12 and up. Children age 12-14 must be accompanied by an adult.
URL:https://wp.natlands.org/event/volunteer-stoneleigh-2025-0724/
LOCATION:Stoneleigh: <em>a natural garden</em>\, 1829 County Line Road\, Villanova\, Pennsylvania\, 19085
CATEGORIES:volunteer
ATTACH;FMTTYPE=image/jpeg:https://wp.natlands.org/wp-content/uploads/2025/01/Fox-sRGB-76-medium-e1741194880648.jpg
END:VEVENT
BEGIN:VEVENT
DTSTART;TZID=America/New_York:20250726T080000
DTEND;TZID=America/New_York:20250726T103000
DTSTAMP:20260422T112743
CREATED:20250507T181653Z
LAST-MODIFIED:20250724T132942Z
UID:10000774-1753516800-1753525800@wp.natlands.org
SUMMARY:Volunteer - Care for Nature - 8 am Start Time
DESCRIPTION:Love nature and want to lend her a helping hand? Grab gloves and join fellow volunteers in nurturing nature. Good fun (and dirt) is guaranteed! Natural Lands cares for more than 23\,000 acres and 120 miles of trails\, and we couldn’t do it without volunteers like you. \nVolunteering with Natural Lands is a great way to learn more about the natural world\, give your time to a great cause\, and connect with enthusiastic\, like-minded people. \nThe health and safety of staff and volunteers is our highest priority during this volunteer event. Please review “before you go” details. \nCapacity is limited for this small-group event. If you sign-up\, please show up. If you need to cancel\, please let us know so another volunteer can attend. All are welcome\, ages 12 and up. Minors ages 12-17 must be accompanied by an adult and registered in the same transaction with their guardian.
URL:https://wp.natlands.org/event/volunteer-binkylee-2025-0726/
LOCATION:Binky Lee Preserve\, 1445 Pikeland Road\, Chester Springs\, Pennsylvania\, 19425
CATEGORIES:volunteer
ATTACH;FMTTYPE=image/jpeg:https://wp.natlands.org/wp-content/uploads/2025/01/Volunteer_24_Medium-e1741275261853.jpg
END:VEVENT
BEGIN:VEVENT
DTSTART;TZID=America/New_York:20250726T080000
DTEND;TZID=America/New_York:20250726T103000
DTSTAMP:20260422T112743
CREATED:20250507T183822Z
LAST-MODIFIED:20250724T171931Z
UID:10000778-1753516800-1753525800@wp.natlands.org
SUMMARY:Volunteer - Care for Nature - 8 am Start Time
DESCRIPTION:Love nature and want to lend her a helping hand? Grab gloves and join fellow volunteers in nurturing nature. Good fun (and dirt) is guaranteed! Natural Lands cares for more than 23\,000 acres and 120 miles of trails\, and we couldn’t do it without volunteers like you. \nVolunteering with Natural Lands is a great way to learn more about the natural world\, give your time to a great cause\, and connect with enthusiastic\, like-minded people. \nThe health and safety of staff and volunteers is our highest priority during this volunteer event. Please review “before you go” details. \nCapacity is limited for this small-group event. If you sign-up\, please show up. If you need to cancel\, please let us know so another volunteer can attend. All are welcome\, ages 12 and up. Minors ages 12-17 must be accompanied by an adult and registered in the same transaction with their guardian.
URL:https://wp.natlands.org/event/volunteer-gwynedd-2025-0726/
LOCATION:Gwynedd Preserve\, 640 Swedesford Road\, North Wales\, Pennsylvania\, 19454
CATEGORIES:volunteer
ATTACH;FMTTYPE=image/jpeg:https://wp.natlands.org/wp-content/uploads/2025/03/Volunteers-Tree-Planting-Diabase-2023-1104-by-Debbie-Beer-3-1-scaled-4-e1743711716275.jpg
END:VEVENT
BEGIN:VEVENT
DTSTART;TZID=America/New_York:20250727T080000
DTEND;TZID=America/New_York:20250727T103000
DTSTAMP:20260422T112744
CREATED:20250507T185318Z
LAST-MODIFIED:20250723T125606Z
UID:10000781-1753603200-1753612200@wp.natlands.org
SUMMARY:Volunteer - Give Back to Nature - 8 am Start Time
DESCRIPTION:Love nature and want to lend her a helping hand? Grab gloves and join fellow volunteers in nurturing nature. Good fun (and dirt) is guaranteed! Natural Lands cares for more than 23\,000 acres and 120 miles of trails\, and we couldn’t do it without volunteers like you. \nVolunteering with Natural Lands is a great way to learn more about the natural world\, give your time to a great cause\, and connect with enthusiastic\, like-minded people. \nThe health and safety of staff and volunteers is our highest priority during this volunteer event. Please review “before you go” details. \nCapacity is limited for this small-group event. If you sign-up\, please show up. If you need to cancel\, please let us know so another volunteer can attend. All are welcome\, ages 12 and up. Minors ages 12-17 must be accompanied by an adult and registered in the same transaction with their guardians.
URL:https://wp.natlands.org/event/volunteer-cheslen-2025-0727/
LOCATION:ChesLen Preserve\, 1199 Cannery Road\, Coatesville\, Pennsylvania\, 19320
CATEGORIES:volunteer
ATTACH;FMTTYPE=image/jpeg:https://wp.natlands.org/wp-content/uploads/2025/03/Volunteers-Tree-Planting-Diabase-2023-1104-by-Debbie-Beer-3-1-scaled-4-e1743711716275.jpg
END:VEVENT
BEGIN:VEVENT
DTSTART;TZID=America/New_York:20250729T083000
DTEND;TZID=America/New_York:20250729T113000
DTSTAMP:20260422T112744
CREATED:20250612T135748Z
LAST-MODIFIED:20250612T135748Z
UID:10000826-1753777800-1753788600@wp.natlands.org
SUMMARY:Volunteer - Summer Gardening
DESCRIPTION:Did you know more than 40\,000 plants thrive at Stoneleigh: a natural garden? Grab gloves and join staff and fellow volunteers in weeding\, planting\, mulching\, and other seasonal garden projects. \nVolunteering with Natural Lands is a great way to learn more about the natural world\, give your time to a great cause\, and connect with like-minded people. \nThe health and safety of staff and volunteers is our highest priority during this volunteer event. Please review “before you go” details. \nCapacity is limited for this small-group event\, and pre-registration is required. If you sign-up\, please show-up. If you need to cancel\, please let us know so another volunteer can attend. All are welcome\, ages 12 and up. Children age 12-14 must be accompanied by an adult.
URL:https://wp.natlands.org/event/volunteer-stoneleigh-2025-0729/
LOCATION:Stoneleigh: <em>a natural garden</em>\, 1829 County Line Road\, Villanova\, Pennsylvania\, 19085
CATEGORIES:volunteer
ATTACH;FMTTYPE=image/jpeg:https://wp.natlands.org/wp-content/uploads/2025/01/DSC0241-medium-e1741272596872.jpg
END:VEVENT
BEGIN:VEVENT
DTSTART;TZID=America/New_York:20250731T083000
DTEND;TZID=America/New_York:20250731T113000
DTSTAMP:20260422T112744
CREATED:20250612T140635Z
LAST-MODIFIED:20250612T140635Z
UID:10000827-1753950600-1753961400@wp.natlands.org
SUMMARY:Volunteer - Summer Gardening
DESCRIPTION:Did you know more than 40\,000 plants thrive at Stoneleigh: a natural garden? Grab gloves and join staff and fellow volunteers in weeding\, planting\, mulching\, and other seasonal garden projects. \nVolunteering with Natural Lands is a great way to learn more about the natural world\, give your time to a great cause\, and connect with like-minded people. \nThe health and safety of staff and volunteers is our highest priority during this volunteer event. Please review “before you go” details. \nCapacity is limited for this small-group event\, and pre-registration is required. If you sign-up\, please show-up. If you need to cancel\, please let us know so another volunteer can attend. All are welcome\, ages 12 and up. Children age 12-14 must be accompanied by an adult.
URL:https://wp.natlands.org/event/volunteer-stoneleigh-2025-0731/
LOCATION:Stoneleigh: <em>a natural garden</em>\, 1829 County Line Road\, Villanova\, Pennsylvania\, 19085
CATEGORIES:volunteer
ATTACH;FMTTYPE=image/jpeg:https://wp.natlands.org/wp-content/uploads/2025/01/Fox-sRGB-22-medium-e1741194907298.jpg
END:VEVENT
END:VCALENDAR