BEGIN:VCALENDAR
VERSION:2.0
PRODID:-//Natural Lands - ECPv6.15.18//NONSGML v1.0//EN
CALSCALE:GREGORIAN
METHOD:PUBLISH
X-ORIGINAL-URL:https://wp.natlands.org
X-WR-CALDESC:Events for Natural Lands
REFRESH-INTERVAL;VALUE=DURATION:PT1H
X-Robots-Tag:noindex
X-PUBLISHED-TTL:PT1H
BEGIN:VTIMEZONE
TZID:America/New_York
BEGIN:DAYLIGHT
TZOFFSETFROM:-0500
TZOFFSETTO:-0400
TZNAME:EDT
DTSTART:20250309T070000
END:DAYLIGHT
BEGIN:STANDARD
TZOFFSETFROM:-0400
TZOFFSETTO:-0500
TZNAME:EST
DTSTART:20251102T060000
END:STANDARD
BEGIN:DAYLIGHT
TZOFFSETFROM:-0500
TZOFFSETTO:-0400
TZNAME:EDT
DTSTART:20260308T070000
END:DAYLIGHT
BEGIN:STANDARD
TZOFFSETFROM:-0400
TZOFFSETTO:-0500
TZNAME:EST
DTSTART:20261101T060000
END:STANDARD
BEGIN:DAYLIGHT
TZOFFSETFROM:-0500
TZOFFSETTO:-0400
TZNAME:EDT
DTSTART:20270314T070000
END:DAYLIGHT
BEGIN:STANDARD
TZOFFSETFROM:-0400
TZOFFSETTO:-0500
TZNAME:EST
DTSTART:20271107T060000
END:STANDARD
END:VTIMEZONE
BEGIN:VEVENT
DTSTART;TZID=America/New_York:20260609T183000
DTEND;TZID=America/New_York:20260609T193000
DTSTAMP:20260419T144426
CREATED:20260319T174350Z
LAST-MODIFIED:20260409T144036Z
UID:10001383-1781029800-1781033400@wp.natlands.org
SUMMARY:Outdoors Online: Native Bees of PA
DESCRIPTION:Did you know that Pennsylvania is home to more species of bees than birds? In this webinar\, you’ll learn about our state’s buzzing\, beautiful bees. \nLed by education partner Julie Travaglini\, this webinar will entertain and enlighten with stories\, science\, and savvy tips to make your next nature exploration safer and more interesting. \nWhether you’re a backyard explorer\, gardener\, hiker\, or curious learner\, this engaging session brings the often-hidden side of the outdoors to life. \nGrab a refreshment\, get cozy\, and log in from wherever you are. \nAbout our instructor:   \nJulie is the senior director of education and curriculum for Allegheny Land Trust. In her role\, she creates hands-on STEM and place-based lessons for children and adults alike as well as providing state-accredited professional development for educators. 
URL:https://wp.natlands.org/event/outdoors-online-native-bees-0609/
CATEGORIES:explore the natural world,general,virtual events
ATTACH;FMTTYPE=image/jpeg:https://wp.natlands.org/wp-content/uploads/2025/02/GreenHills_Meadow_JMoffett.jpg
LOCATION:https://wp.natlands.org/event/outdoors-online-native-bees-0609/
END:VEVENT
END:VCALENDAR