BEGIN:VCALENDAR
VERSION:2.0
PRODID:-//Natural Lands - ECPv6.15.18//NONSGML v1.0//EN
CALSCALE:GREGORIAN
METHOD:PUBLISH
X-WR-CALNAME:Natural Lands
X-ORIGINAL-URL:https://wp.natlands.org
X-WR-CALDESC:Events for Natural Lands
REFRESH-INTERVAL;VALUE=DURATION:PT1H
X-Robots-Tag:noindex
X-PUBLISHED-TTL:PT1H
BEGIN:VTIMEZONE
TZID:America/New_York
BEGIN:DAYLIGHT
TZOFFSETFROM:-0500
TZOFFSETTO:-0400
TZNAME:EDT
DTSTART:20250309T070000
END:DAYLIGHT
BEGIN:STANDARD
TZOFFSETFROM:-0400
TZOFFSETTO:-0500
TZNAME:EST
DTSTART:20251102T060000
END:STANDARD
BEGIN:DAYLIGHT
TZOFFSETFROM:-0500
TZOFFSETTO:-0400
TZNAME:EDT
DTSTART:20260308T070000
END:DAYLIGHT
BEGIN:STANDARD
TZOFFSETFROM:-0400
TZOFFSETTO:-0500
TZNAME:EST
DTSTART:20261101T060000
END:STANDARD
BEGIN:DAYLIGHT
TZOFFSETFROM:-0500
TZOFFSETTO:-0400
TZNAME:EDT
DTSTART:20270314T070000
END:DAYLIGHT
BEGIN:STANDARD
TZOFFSETFROM:-0400
TZOFFSETTO:-0500
TZNAME:EST
DTSTART:20271107T060000
END:STANDARD
END:VTIMEZONE
BEGIN:VEVENT
DTSTART;TZID=America/New_York:20260919T180000
DTEND;TZID=America/New_York:20260919T210000
DTSTAMP:20260425T183105
CREATED:20260206T182759Z
LAST-MODIFIED:20260320T182700Z
UID:10001276-1789840800-1789851600@wp.natlands.org
SUMMARY:Beats & Brews
DESCRIPTION:music. without walls \nJoin us for a magical early-fall evening where music\, nature\, and community come together beneath crisp autumn skies. Enjoy live music from Grateful Dead–inspired jam band Zendog surrounded by the glow of sunset and stars.  \n \nNature at its best: Breathe in the cool evening air\, watch the sun dip below the horizon\, and soak up early fall vibes.  \nMake it cozy: Bring your favorite blankets or lawn chairs and get comfortable—layer up\, relax\, and enjoy the music as the night unfolds.  \nFor a great cause: Feel good knowing your evening supports a mission dedicated to protecting open space and connecting people with nature.  \nFood and Drink: Warm up with local favorites available for purchase\, including:  \n\nCraft beer from East Branch Brewing Company \nLocal cider and wine from family-owned Dressler Estate\nDelicious food truck fare (stay tuned…)\n\nDon’t miss the chance to rock our Natural Lands inspired tie-dye merch at the event. Purchase in advance. \n \n*Please Note: Due to the timing of this event\, Binky Lee Preserve will close to the public early at 2:00 PM. 
URL:https://wp.natlands.org/event/beatsbrews-2026/
LOCATION:Binky Lee Preserve\, 1445 Pikeland Road\, Chester Springs\, Pennsylvania\, 19425
CATEGORIES:arts & entertainment,general,member perks,music without walls,NextGen
ATTACH;FMTTYPE=image/jpeg:https://wp.natlands.org/wp-content/uploads/2025/01/Events_Chill-audience.jpg
END:VEVENT
END:VCALENDAR