BEGIN:VCALENDAR
VERSION:2.0
PRODID:-//Natural Lands - ECPv6.15.18//NONSGML v1.0//EN
CALSCALE:GREGORIAN
METHOD:PUBLISH
X-ORIGINAL-URL:https://wp.natlands.org
X-WR-CALDESC:Events for Natural Lands
REFRESH-INTERVAL;VALUE=DURATION:PT1H
X-Robots-Tag:noindex
X-PUBLISHED-TTL:PT1H
BEGIN:VTIMEZONE
TZID:America/New_York
BEGIN:DAYLIGHT
TZOFFSETFROM:-0500
TZOFFSETTO:-0400
TZNAME:EDT
DTSTART:20250309T070000
END:DAYLIGHT
BEGIN:STANDARD
TZOFFSETFROM:-0400
TZOFFSETTO:-0500
TZNAME:EST
DTSTART:20251102T060000
END:STANDARD
BEGIN:DAYLIGHT
TZOFFSETFROM:-0500
TZOFFSETTO:-0400
TZNAME:EDT
DTSTART:20260308T070000
END:DAYLIGHT
BEGIN:STANDARD
TZOFFSETFROM:-0400
TZOFFSETTO:-0500
TZNAME:EST
DTSTART:20261101T060000
END:STANDARD
BEGIN:DAYLIGHT
TZOFFSETFROM:-0500
TZOFFSETTO:-0400
TZNAME:EDT
DTSTART:20270314T070000
END:DAYLIGHT
BEGIN:STANDARD
TZOFFSETFROM:-0400
TZOFFSETTO:-0500
TZNAME:EST
DTSTART:20271107T060000
END:STANDARD
END:VTIMEZONE
BEGIN:VEVENT
DTSTART;TZID=America/New_York:20260626T101500
DTEND;TZID=America/New_York:20260626T110000
DTSTAMP:20260422T150625
CREATED:20260422T141640Z
LAST-MODIFIED:20260422T141640Z
UID:10001474-1782468900-1782471600@wp.natlands.org
SUMMARY:PlayIn Time Music Circle
DESCRIPTION:Join our partners at PlayIn Time Productions for a weekly\, interactive musical program geared toward children ages newborn to five and their parents or caregivers. Instructor Virginia will guide you and your child through warming up their bodies with movement\, practicing listening skills using activities like freeze dances\, and jamming to classic and new tunes. PlayIn Time’s Music Circles build musical connection and community through shared fun. Get ready to dance\, jam\, and learn!  \nThings to know:  \n\nClasses will run on Friday mornings from 10:15am – 11:00am\, June 19th through August 14th (no class on July 3) \n\n\nJoin for the whole series or just for one or two sessions. Registration is available on PlayIn Time’s website\, linked below. \n\n\nIf you have them\, you are welcome to bring your own shakers\, sticks\, or other percussive instruments. \n\n\nClasses will be held outside on the Great Lawn so bring a blanket or lawn pad to sit on. \n\n\nPlease note that\, while the program is geared toward younger ages\, siblings ages 6 and older are welcome and can attend free of charge. \n\n 		\n			register now
URL:https://wp.natlands.org/event/playin-time-stoneleigh-2026-0626/
LOCATION:Stoneleigh: <em>a natural garden</em>\, 1829 County Line Road\, Villanova\, Pennsylvania\, 19085
CATEGORIES:arts & entertainment,family and kid friendly,general,music without walls
ATTACH;FMTTYPE=image/jpeg:https://wp.natlands.org/wp-content/uploads/2026/04/PXL_20250418_1431379162-e1776367582716.jpg
END:VEVENT
BEGIN:VEVENT
DTSTART;TZID=America/New_York:20260626T190000
DTEND;TZID=America/New_York:20260626T220000
DTSTAMP:20260422T150625
CREATED:20260129T160315Z
LAST-MODIFIED:20260312T175743Z
UID:10001235-1782500400-1782511200@wp.natlands.org
SUMMARY:Friday Night Lights
DESCRIPTION:music. without walls. \nPicture this: warm summer breezes\, live music\, locally crafted cider\, wine and beer\, s’mores\, and unforgettable sunset views at one of the most breathtaking landscapes in Chester County… Friday Night Lights is the must-not-miss event of the summer.   \n \nLive music: Beloved local band of three brothers (by both blood and friendship)\, The Flying Komorowski Brothers return to headline alongside openers Madisun Bailey\, a Maryland-based songwriter who draws inspiration from nature and blends soul\, alternative jazz\, and a unique rhythmic guitar style. \nNature at its best: Relax and unwind in the stunning beauty of the preserve.   \nMake it cozy: Bring your favorite blankets or lawn chairs and settle in for a comfortable evening.  \nFood & drink: Treat yourself to local flavors available for purchase\, including:  \n\nCraft beer from East Branch Brewing Company and Animated Brewing Company\nLocal cider and wine from family-owned Dressler Estate\nDelicious food truck offerings including Cheezy Vegan (all-vegan)\, Buddy’s Burgers\, Breasts\, & Fries (featuring veggie burgers)\, Delco Steaks (featuring veggie and vegan options)\, and KOI on the Go (Asian/Latin fusion with vegetarian options\, plus coffee and desserts).\n\nStar gazing with local astronomy clubs. \nNew location: We love our birds and we hope you do to. Fields are particularly valuable as nesting areas and food sources for birds such as Bobolink\, Eastern Meadowlark\, and Grasshopper Sparrow. Two-thirds of grassland birds like these have experienced population declines\, and one-quarter of them may soon face threatened or endangered status. We made the decision not to mow the field to protect our birds. We will be hosting Friday Night Lights at the Lenfest Center with sweeping views of the preserve. Learn more: how is Natural Lands helping birds? \nFor a great cause: Your participation supports Natural Lands’ mission to preserve open space\, care for nature\, and connect people to the outdoors and each other.  \nIt’s music without walls\, y’all! Check out the fun in this video. \n \nPurchase your General Tickets below (scroll until you see the “register now” button). \nIn your 20s\, 30s\, or 40s? Check out our NextGen ticket options.   \nPremium Ticket holders enjoy all the perks of the regular ticket experience plus the following: \n\nPremium parking\nExpress entry\nDrink ticket\n\nClick here to purchase Premium tickets.
URL:https://wp.natlands.org/event/fridaynightlights-2026/
LOCATION:ChesLen Preserve\, 1199 Cannery Road\, Coatesville\, Pennsylvania\, 19320
CATEGORIES:arts & entertainment,general,member perks,music without walls,NextGen
ATTACH;FMTTYPE=image/jpeg:https://wp.natlands.org/wp-content/uploads/2026/01/20250620_224900000_iOS_FNL_2025_MarkWilliams-medium.jpg
END:VEVENT
END:VCALENDAR