BEGIN:VCALENDAR
VERSION:2.0
PRODID:-//Natural Lands - ECPv6.15.18//NONSGML v1.0//EN
CALSCALE:GREGORIAN
METHOD:PUBLISH
X-ORIGINAL-URL:https://wp.natlands.org
X-WR-CALDESC:Events for Natural Lands
REFRESH-INTERVAL;VALUE=DURATION:PT1H
X-Robots-Tag:noindex
X-PUBLISHED-TTL:PT1H
BEGIN:VTIMEZONE
TZID:America/New_York
BEGIN:DAYLIGHT
TZOFFSETFROM:-0500
TZOFFSETTO:-0400
TZNAME:EDT
DTSTART:20240310T070000
END:DAYLIGHT
BEGIN:STANDARD
TZOFFSETFROM:-0400
TZOFFSETTO:-0500
TZNAME:EST
DTSTART:20241103T060000
END:STANDARD
BEGIN:DAYLIGHT
TZOFFSETFROM:-0500
TZOFFSETTO:-0400
TZNAME:EDT
DTSTART:20250309T070000
END:DAYLIGHT
BEGIN:STANDARD
TZOFFSETFROM:-0400
TZOFFSETTO:-0500
TZNAME:EST
DTSTART:20251102T060000
END:STANDARD
BEGIN:DAYLIGHT
TZOFFSETFROM:-0500
TZOFFSETTO:-0400
TZNAME:EDT
DTSTART:20260308T070000
END:DAYLIGHT
BEGIN:STANDARD
TZOFFSETFROM:-0400
TZOFFSETTO:-0500
TZNAME:EST
DTSTART:20261101T060000
END:STANDARD
BEGIN:DAYLIGHT
TZOFFSETFROM:-0500
TZOFFSETTO:-0400
TZNAME:EDT
DTSTART:20270314T070000
END:DAYLIGHT
BEGIN:STANDARD
TZOFFSETFROM:-0400
TZOFFSETTO:-0500
TZNAME:EST
DTSTART:20271107T060000
END:STANDARD
END:VTIMEZONE
BEGIN:VEVENT
DTSTART;TZID=America/New_York:20260419T101500
DTEND;TZID=America/New_York:20260419T111500
DTSTAMP:20260422T065043
CREATED:20260203T190556Z
LAST-MODIFIED:20260418T201517Z
UID:10001289-1776593700-1776597300@wp.natlands.org
SUMMARY:Yoga in the Garden - CANCELLED
DESCRIPTION:This event is cancelled due to rain. Please join us for a future event.  \nRelax the mind and strengthen the body with an all-levels yoga class and meditation session guided by Christina Fittipoldi in the tranquil setting of Stoneleigh. The gentle pace will allow us time to linger in poses and build a deeper connection to the body using our breath.    \nPlease bring a mat\, water bottle\, and any props you may like to use.  
URL:https://wp.natlands.org/event/yoga-stoneleigh-2026-0419/
LOCATION:Stoneleigh: <em>a natural garden</em>\, 1829 County Line Road\, Villanova\, Pennsylvania\, 19085
CATEGORIES:general,health and wellness,member perks
ATTACH;FMTTYPE=image/jpeg:https://wp.natlands.org/wp-content/uploads/2026/01/DSC0101-medium.jpg
END:VEVENT
BEGIN:VEVENT
DTSTART;TZID=America/New_York:20260412T101500
DTEND;TZID=America/New_York:20260412T111500
DTSTAMP:20260422T065043
CREATED:20260203T185755Z
LAST-MODIFIED:20260217T171239Z
UID:10001288-1775988900-1775992500@wp.natlands.org
SUMMARY:Yoga in the Garden
DESCRIPTION:Relax the mind and strengthen the body with an all-levels yoga class and meditation session guided by Christina Fittipoldi in the tranquil setting of Stoneleigh. The gentle pace will allow us time to linger in poses and build a deeper connection to the body using our breath.    \nPlease bring a mat\, water bottle\, and any props you may like to use.  
URL:https://wp.natlands.org/event/yoga-stoneleigh-2026-0412/
LOCATION:Stoneleigh: <em>a natural garden</em>\, 1829 County Line Road\, Villanova\, Pennsylvania\, 19085
CATEGORIES:general,health and wellness,member perks
ATTACH;FMTTYPE=image/jpeg:https://wp.natlands.org/wp-content/uploads/2025/03/bgwgt-465_Saunders-Woods_Black-Girls-with-Green-Thumbs-Annual-Wellness-Retreat_Photos-S.-Badiyah-Austin_Sept2024-1-e1742585686982.jpg
END:VEVENT
BEGIN:VEVENT
DTSTART;TZID=America/New_York:20260406T080000
DTEND;TZID=America/New_York:20260406T080000
DTSTAMP:20260422T065043
CREATED:20251209T155555Z
LAST-MODIFIED:20260217T171319Z
UID:10001142-1775462400-1775462400@wp.natlands.org
SUMMARY:Trek-a-Thon
DESCRIPTION:celebrate America’s 250 years with 250 miles. \nJoin Natural Lands in 2026 to celebrate the USA’s 250th birthday by walking\, trekking\, or hiking 250 miles at any of Natural Lands’ nature preserves or at our public garden Wildflower-filled meadows\, shady forests\, boulder-strewn stream valleys\, wetlands teeming with life\, vibrant native plant gardens\, and coastal marshland habitat… our 23\,000+ acres span 2 states and 13 counties – plenty of space to log your miles. \nFrom January 1 through December 31\, 2026\, we’re inviting you to walk\, stroll\, hike\, or run 250 miles at our properties to commemorate our country’s 250 years. \nWhether you’re hitting the trails alone\, with friends\, or your four-legged\, furry friend\, (remember to leash) every step counts. Natural Lands is committed to creating opportunities for joy\, discovery\, belonging\, and connection in the outdoors for everyone. \nRegister for free below.
URL:https://wp.natlands.org/event/trekathon-2026-april/
LOCATION:Pennsylvania
CATEGORIES:general,health and wellness,virtual events
ATTACH;FMTTYPE=image/jpeg:https://wp.natlands.org/wp-content/uploads/2025/11/TrekAThon2026-EventHeader.jpg
END:VEVENT
BEGIN:VEVENT
DTSTART;TZID=America/New_York:20260402T183000
DTEND;TZID=America/New_York:20260402T200000
DTSTAMP:20260422T065043
CREATED:20260220T161136Z
LAST-MODIFIED:20260318T140006Z
UID:10001331-1775154600-1775160000@wp.natlands.org
SUMMARY:SOLD OUT - Bluebells Beneath the Pink Moon Stroll
DESCRIPTION:This event is sold out. Please join us for a future event.  \nJoin us for an enchanting evening walk at Stroud Preserve as spring comes alive beneath the full Pink Moon of April. Wander through woodland paths (which just might be starting to grow their carpet of blooming bluebells) and learn about these fleeting spring ephemerals while enjoying the soft glow of moonlight. \nThis peaceful stroll blends seasonal ecology with celestial wonder for a truly magical night outdoors.
URL:https://wp.natlands.org/event/pink-moon-stroud-2026-0402/
LOCATION:Stroud Preserve\, 454 North Creek Road\, West Chester\, Pennsylvania\, 19382
CATEGORIES:general,health and wellness,member perks,nature walks
ATTACH;FMTTYPE=image/jpeg:https://wp.natlands.org/wp-content/uploads/2025/02/IMG_1191-2_Stroud_Summer_JillSabre.jpeg
END:VEVENT
BEGIN:VEVENT
DTSTART;TZID=America/New_York:20260329T130000
DTEND;TZID=America/New_York:20260329T153000
DTSTAMP:20260422T065043
CREATED:20260112T214221Z
LAST-MODIFIED:20260217T171336Z
UID:10001234-1774789200-1774798200@wp.natlands.org
SUMMARY:Spring Awakening: Forest Bathing for Wellness
DESCRIPTION:As winter loosens its quiet hold\, the forest begins awakening. Step into this tender moment of early spring during this slow\, sensory-rich walk through the woods. Instructor Stacey Vinci’s gentle\, heart-centered approach aims to soothe the nervous system\, rekindle the spirit\, and restore balance in a time when many of us move too quickly to notice the beauty at our feet.  \nAll walks are invitational and trauma-informed\, offering space for whatever you bring and however you arrive. We’ll close our time together sharing a calming tea tasting and light snacks—an unhurried moment to savor the simple gifts of the season.  \nAbout the instructor: Stacey Vinci is a licensed marriage and family therapist and a certified forest therapy guide through the Association for Nature and Forest Therapy. Stacey has been in practice for 14 years supporting individuals\, communities\, and family systems in generational healing\, growth\, and change. Stacey facilitates embodied wellness through somatic\, trauma-informed\, and nature-based offerings.  
URL:https://wp.natlands.org/event/forest-bathing-hildacy-2026-0329/
LOCATION:Hildacy Preserve\, 1031 Palmers Mill Road\, Media\, Pennsylvania\, 19063
CATEGORIES:general,health and wellness,member perks
ATTACH;FMTTYPE=image/jpeg:https://wp.natlands.org/wp-content/uploads/2025/01/2020_04-Hildacy-Preserve-5534-medium-e1741272906342.jpg
END:VEVENT
BEGIN:VEVENT
DTSTART;TZID=America/New_York:20260327T190000
DTEND;TZID=America/New_York:20260327T200000
DTSTAMP:20260422T065043
CREATED:20260311T195543Z
LAST-MODIFIED:20260311T195543Z
UID:10001393-1774638000-1774641600@wp.natlands.org
SUMMARY:Sound Meditation
DESCRIPTION:Join our partners Soul Bloom for an evening of supreme relaxation in the restored bank barn at Crow’s Nest Preserve. \nEnjoy a full sound bath and yoga nidra meditation to harmonize your body\, mind\, and spirit. \nPlease bring pillows and blankets. \nLearn more about Soul Bloom. \n		\n			register now
URL:https://wp.natlands.org/event/soundbath-crowsnest-2026-0327/
LOCATION:Crow’s Nest Preserve\, 201 Piersol Road\, Elverson\, Pennsylvania\, 19520
CATEGORIES:general,health and wellness
ATTACH;FMTTYPE=image/jpeg:https://wp.natlands.org/wp-content/uploads/2025/01/IMG_6265-e1742234332959.jpg
END:VEVENT
BEGIN:VEVENT
DTSTART;TZID=America/New_York:20260321T140000
DTEND;TZID=America/New_York:20260321T160000
DTSTAMP:20260422T065043
CREATED:20260311T193600Z
LAST-MODIFIED:20260317T132716Z
UID:10001391-1774101600-1774108800@wp.natlands.org
SUMMARY:Create Your Own (Recycled) Nature Journal - FULL
DESCRIPTION:This event is full. Please join us for a future event.  \nConnect with the world through nature journaling. Join our partner\, Rose Rowe\, a naturalist at French Creek State Park\, for a hands-on workshop where we’ll be getting crafty. As part of our Learning through Art series\, this month’s session will focus on traditional bookbinding and the history of nature journaling. From cover to cover\, we will make nature journals ready to be filled with your unique observations and revelations. \nThis workshop is part of an ongoing series where we will be partnering with a nature journaling ambassador to explore and discover this mindful practice. Wisdom begins in wonder\, and we hope this series will inspire you to cultivate curiosity and creativity as you explore and connect with the parks and natural lands around us. \nMeet at the French Creek State Park’s Playground Pavilion (follow the link: 843 Park Road\, Elverson\, PA 19520). \nFrench Creek State Park is located within the Schuylkill Highlands Conservation Landscape\, a place-based partnership administered by Natural Lands and funded in part by a grant from the Community Conservation Partnerships Program under the administration of the Pennsylvania Department of Conservation and Natural Resources\, Bureau of Recreation and Conservation.
URL:https://wp.natlands.org/event/nature-journal-2026-0321/
LOCATION:French Creek State Park\, 843 Park Road\, Elverson\, PA\, 19520\, United States
CATEGORIES:arts & entertainment,general,health and wellness,member perks
ATTACH;FMTTYPE=image/jpeg:https://wp.natlands.org/wp-content/uploads/2026/03/cda5120745344a1db23a1a8341f80ab6a92d43d0.jpg
END:VEVENT
BEGIN:VEVENT
DTSTART;TZID=America/New_York:20260302T080000
DTEND;TZID=America/New_York:20260302T080000
DTSTAMP:20260422T065043
CREATED:20251209T155424Z
LAST-MODIFIED:20260217T171624Z
UID:10001141-1772438400-1772438400@wp.natlands.org
SUMMARY:Trek-a-Thon
DESCRIPTION:celebrate America’s 250 years with 250 miles. \nJoin Natural Lands in 2026 to celebrate the USA’s 250th birthday by walking\, trekking\, or hiking 250 miles at any of Natural Lands’ nature preserves or at our public garden Wildflower-filled meadows\, shady forests\, boulder-strewn stream valleys\, wetlands teeming with life\, vibrant native plant gardens\, and coastal marshland habitat… our 23\,000+ acres span 2 states and 13 counties – plenty of space to log your miles. \nFrom January 1 through December 31\, 2026\, we’re inviting you to walk\, stroll\, hike\, or run 250 miles at our properties to commemorate our country’s 250 years. \nWhether you’re hitting the trails alone\, with friends\, or your four-legged\, furry friend\, (remember to leash) every step counts. Natural Lands is committed to creating opportunities for joy\, discovery\, belonging\, and connection in the outdoors for everyone. \nRegister for free below.
URL:https://wp.natlands.org/event/trekathon-2026-march/
LOCATION:Pennsylvania
CATEGORIES:general,health and wellness,virtual events
ATTACH;FMTTYPE=image/jpeg:https://wp.natlands.org/wp-content/uploads/2025/11/TrekAThon2026-EventHeader.jpg
END:VEVENT
BEGIN:VEVENT
DTSTART;TZID=America/New_York:20260227T190000
DTEND;TZID=America/New_York:20260227T200000
DTSTAMP:20260422T065043
CREATED:20260126T183154Z
LAST-MODIFIED:20260217T171642Z
UID:10001257-1772218800-1772222400@wp.natlands.org
SUMMARY:Sound Meditation
DESCRIPTION:Join our partners Soul Bloom for an evening of supreme relaxation in the restored bank barn at Crow’s Nest Preserve. \nEnjoy a full sound bath and yoga nidra meditation to harmonize your body\, mind\, and spirit. \nPlease bring pillows and blankets. \nLearn more about Soul Bloom. \n		\n			register now
URL:https://wp.natlands.org/event/soundbath-crowsnest-2026-0227/
LOCATION:Crow’s Nest Preserve\, 201 Piersol Road\, Elverson\, Pennsylvania\, 19520
CATEGORIES:general,health and wellness
ATTACH;FMTTYPE=image/jpeg:https://wp.natlands.org/wp-content/uploads/2025/01/IMG_6265-e1742234332959.jpg
END:VEVENT
BEGIN:VEVENT
DTSTART;TZID=America/New_York:20251109T130000
DTEND;TZID=America/New_York:20251109T160000
DTSTAMP:20260422T065043
CREATED:20250819T185541Z
LAST-MODIFIED:20260312T175712Z
UID:10000962-1762693200-1762704000@wp.natlands.org
SUMMARY:Forest Bathing & Nature Journaling Retreat - waitlist
DESCRIPTION:This event is sold out. Please join the waitlist.  \nIn today’s fast-paced world\, it’s easy to get caught up in the hustle and forget to slow down\, breathe\, and experience the peace that nature offers.  \nJoin guide Stacey Vinci for a slow-paced\, sensory-guided walk\, wander\, and reflection at Saunders Woods Preserve. Stacey’s relational and heart-centered approach can promote wellness and healing\, regulate the nervous system\, support the immune system\, prevent burnout\, and help strengthen our relationship with the natural world.  \nAs part of this restorative experience\, you’ll also have the opportunity to engage in nature journaling—whether through reflective writing\, sketching\, or both. Notebooks and colored pencils will be provided\, allowing you to capture your impressions of the natural world in your own creative way.  \nAll walks are invitational\, and trauma informed. We’ll wrap up the afternoon with a relaxing apple cider tasting around a cozy fire and delicious light snacks—the perfect way to unwind and savor the flavors of nature.  \nAbout the instructor: Stacey Vinci is a licensed marriage and family therapist and a certified forest therapy guide through the Association for Nature and Forest Therapy. Stacey has been in practice for 14 years supporting individuals\, communities\, and family systems in generational healing\, growth\, and change. Stacey facilitates embodied wellness through somatic\, trauma-informed\, and nature-based offerings. 
URL:https://wp.natlands.org/event/forest-bathing-saunders-2025-1109/
LOCATION:Saunders Woods Preserve\, 1020 Waverly Road\, Gladwyne\, PA\, 19035
CATEGORIES:general,health and wellness,member perks
ATTACH;FMTTYPE=image/jpeg:https://wp.natlands.org/wp-content/uploads/2025/03/Saunders-Woods-Trail2_MaeAxelrod-medium-e1743712125583.jpg
END:VEVENT
END:VCALENDAR