BEGIN:VCALENDAR
VERSION:2.0
PRODID:-//Natural Lands - ECPv6.15.18//NONSGML v1.0//EN
CALSCALE:GREGORIAN
METHOD:PUBLISH
X-ORIGINAL-URL:https://wp.natlands.org
X-WR-CALDESC:Events for Natural Lands
REFRESH-INTERVAL;VALUE=DURATION:PT1H
X-Robots-Tag:noindex
X-PUBLISHED-TTL:PT1H
BEGIN:VTIMEZONE
TZID:America/New_York
BEGIN:DAYLIGHT
TZOFFSETFROM:-0500
TZOFFSETTO:-0400
TZNAME:EDT
DTSTART:20250309T070000
END:DAYLIGHT
BEGIN:STANDARD
TZOFFSETFROM:-0400
TZOFFSETTO:-0500
TZNAME:EST
DTSTART:20251102T060000
END:STANDARD
BEGIN:DAYLIGHT
TZOFFSETFROM:-0500
TZOFFSETTO:-0400
TZNAME:EDT
DTSTART:20260308T070000
END:DAYLIGHT
BEGIN:STANDARD
TZOFFSETFROM:-0400
TZOFFSETTO:-0500
TZNAME:EST
DTSTART:20261101T060000
END:STANDARD
BEGIN:DAYLIGHT
TZOFFSETFROM:-0500
TZOFFSETTO:-0400
TZNAME:EDT
DTSTART:20270314T070000
END:DAYLIGHT
BEGIN:STANDARD
TZOFFSETFROM:-0400
TZOFFSETTO:-0500
TZNAME:EST
DTSTART:20271107T060000
END:STANDARD
END:VTIMEZONE
BEGIN:VEVENT
DTSTART;TZID=America/New_York:20260426T101500
DTEND;TZID=America/New_York:20260426T111500
DTSTAMP:20260420T182143
CREATED:20260203T191155Z
LAST-MODIFIED:20260217T171120Z
UID:10001290-1777198500-1777202100@wp.natlands.org
SUMMARY:Yoga in the Garden
DESCRIPTION:Relax the mind and strengthen the body with an all-levels yoga class and meditation session guided by Christina Fittipoldi in the tranquil setting of Stoneleigh. The gentle pace will allow us time to linger in poses and build a deeper connection to the body using our breath.    \nPlease bring a mat\, water bottle\, and any props you may like to use.  
URL:https://wp.natlands.org/event/yoga-stoneleigh-2026-0426/
LOCATION:Stoneleigh: <em>a natural garden</em>\, 1829 County Line Road\, Villanova\, Pennsylvania\, 19085
CATEGORIES:general,health and wellness,member perks
ATTACH;FMTTYPE=image/jpeg:https://wp.natlands.org/wp-content/uploads/2025/03/bgwgt-436_Saunders-Woods_Black-Girls-with-Green-Thumbs-Annual-Wellness-Retreat_Photos-S.-Badiyah-Austin_Sept2024-scaled-2-e1742933059637.jpg
END:VEVENT
BEGIN:VEVENT
DTSTART;TZID=America/New_York:20260426T130000
DTEND;TZID=America/New_York:20260426T153000
DTSTAMP:20260420T182143
CREATED:20260127T195225Z
LAST-MODIFIED:20260409T144434Z
UID:10001267-1777208400-1777217400@wp.natlands.org
SUMMARY:Forest Bathing Wellness Wander
DESCRIPTION:In today’s fast-paced world\, it’s easy to get caught up in the hustle and forget to slow down\, breathe\, and experience the peace that nature offers.  \nJoin guide Stacey Vinci for a slow-paced\, sensory guided walk\, wander\, and reflection at Gwynedd Preserve. Stacey’s relational and heart-centered approach can promote wellness and healing\, regulate the nervous system\, support the immune system\, prevent burnout\, and help strengthen our relationship with the natural world.   \nAll walks are invitational and trauma informed. We’ll wrap up the afternoon with a relaxing tea tasting and delicious light snacks\, the perfect way to unwind and savor the flavors of nature.   \nAbout the instructor: Stacey Vinci is a licensed marriage and family therapist and a certified forest therapy guide through the Association for Nature and Forest Therapy. Stacey has been in practice for 14 years supporting individuals\, communities\, and family systems in generational healing\, growth\, and change. Stacey facilitates embodied wellness through somatic\, trauma-informed\, and nature-based offerings. 
URL:https://wp.natlands.org/event/forestbathing-gwynedd-2026-0426/
LOCATION:Gwynedd Preserve\, 640 Swedesford Road\, North Wales\, Pennsylvania\, 19454
CATEGORIES:explore the natural world,general,health and wellness,member perks
ATTACH;FMTTYPE=image/jpeg:https://wp.natlands.org/wp-content/uploads/2025/03/FB_IMG_1637539196670_Full-e1743711231271.jpg
END:VEVENT
END:VCALENDAR