BEGIN:VCALENDAR
VERSION:2.0
PRODID:-//Natural Lands - ECPv6.15.18//NONSGML v1.0//EN
CALSCALE:GREGORIAN
METHOD:PUBLISH
X-WR-CALNAME:Natural Lands
X-ORIGINAL-URL:https://wp.natlands.org
X-WR-CALDESC:Events for Natural Lands
REFRESH-INTERVAL;VALUE=DURATION:PT1H
X-Robots-Tag:noindex
X-PUBLISHED-TTL:PT1H
BEGIN:VTIMEZONE
TZID:America/New_York
BEGIN:DAYLIGHT
TZOFFSETFROM:-0500
TZOFFSETTO:-0400
TZNAME:EDT
DTSTART:20250309T070000
END:DAYLIGHT
BEGIN:STANDARD
TZOFFSETFROM:-0400
TZOFFSETTO:-0500
TZNAME:EST
DTSTART:20251102T060000
END:STANDARD
BEGIN:DAYLIGHT
TZOFFSETFROM:-0500
TZOFFSETTO:-0400
TZNAME:EDT
DTSTART:20260308T070000
END:DAYLIGHT
BEGIN:STANDARD
TZOFFSETFROM:-0400
TZOFFSETTO:-0500
TZNAME:EST
DTSTART:20261101T060000
END:STANDARD
BEGIN:DAYLIGHT
TZOFFSETFROM:-0500
TZOFFSETTO:-0400
TZNAME:EDT
DTSTART:20270314T070000
END:DAYLIGHT
BEGIN:STANDARD
TZOFFSETFROM:-0400
TZOFFSETTO:-0500
TZNAME:EST
DTSTART:20271107T060000
END:STANDARD
END:VTIMEZONE
BEGIN:VEVENT
DTSTART;TZID=America/New_York:20260425T090000
DTEND;TZID=America/New_York:20260425T113000
DTSTAMP:20260421T110722
CREATED:20260220T193921Z
LAST-MODIFIED:20260415T181028Z
UID:10001329-1777107600-1777116600@wp.natlands.org
SUMMARY:Birds & Belonging: A Walk with Philly Queer Birders - Waitlist
DESCRIPTION:This event is full. Please join our waitlist below.  \nBirds\, community\, and spring vibes abound. Join us as Natural Lands teams up with Philly Queer Birders for an inclusive\, all-levels bird walk at Hildacy Preserve. \nThis relaxed outing welcomes LGBTQIA+ folks and allies to enjoy spring migration\, learn about local birds\, and connect with community in a supportive outdoor space. \nNo birding experience required—just curiosity and a love of being outside. \nAbout our partners: Philly Queer Birders\, founded in March 2021\, is a monthly group that builds LGBTQIA+ community through birding while exploring Philadelphia’s parks and natural spaces\, plus surrounding areas. The group welcomes all skill levels\, emphasizes accessibility and inclusivity\, and centers queer experiences\, offering a fun\, supportive environment for anyone who appreciates birds. \nThe songbirds\, raptors\, waterfowl\, and shorebirds—about 300 recorded species—that rely on habitats under Natural Lands care are not just beautiful but also essential to the health of our planet. What’s more\, they are environmental indicators\, warning us of climate shifts and other ecosystem changes. \nLearn more about what Natural Lands is doing for bird conservation.
URL:https://wp.natlands.org/event/belonging-hildacy-2026-0425/
LOCATION:Hildacy Preserve\, 1031 Palmers Mill Road\, Media\, Pennsylvania\, 19063
CATEGORIES:birding,explore the natural world,general,health and wellness,nature walks,NextGen
ATTACH;FMTTYPE=image/jpeg:https://wp.natlands.org/wp-content/uploads/2025/02/GWYN_DSC_9133-palm-warbler-gwynedd-10-22-20-bill-moses.jpg
END:VEVENT
END:VCALENDAR