BEGIN:VCALENDAR
VERSION:2.0
PRODID:-//Natural Lands - ECPv6.15.18//NONSGML v1.0//EN
CALSCALE:GREGORIAN
METHOD:PUBLISH
X-WR-CALNAME:Natural Lands
X-ORIGINAL-URL:https://wp.natlands.org
X-WR-CALDESC:Events for Natural Lands
REFRESH-INTERVAL;VALUE=DURATION:PT1H
X-Robots-Tag:noindex
X-PUBLISHED-TTL:PT1H
BEGIN:VTIMEZONE
TZID:America/New_York
BEGIN:DAYLIGHT
TZOFFSETFROM:-0500
TZOFFSETTO:-0400
TZNAME:EDT
DTSTART:20240310T070000
END:DAYLIGHT
BEGIN:STANDARD
TZOFFSETFROM:-0400
TZOFFSETTO:-0500
TZNAME:EST
DTSTART:20241103T060000
END:STANDARD
BEGIN:DAYLIGHT
TZOFFSETFROM:-0500
TZOFFSETTO:-0400
TZNAME:EDT
DTSTART:20250309T070000
END:DAYLIGHT
BEGIN:STANDARD
TZOFFSETFROM:-0400
TZOFFSETTO:-0500
TZNAME:EST
DTSTART:20251102T060000
END:STANDARD
BEGIN:DAYLIGHT
TZOFFSETFROM:-0500
TZOFFSETTO:-0400
TZNAME:EDT
DTSTART:20260308T070000
END:DAYLIGHT
BEGIN:STANDARD
TZOFFSETFROM:-0400
TZOFFSETTO:-0500
TZNAME:EST
DTSTART:20261101T060000
END:STANDARD
END:VTIMEZONE
BEGIN:VEVENT
DTSTART;TZID=America/New_York:20251107T120000
DTEND;TZID=America/New_York:20251107T124500
DTSTAMP:20260420T074758
CREATED:20250729T155743Z
LAST-MODIFIED:20251013T183717Z
UID:10000919-1762516800-1762519500@wp.natlands.org
SUMMARY:First Friday Organ Concert
DESCRIPTION:The Organ Historical Society (OHS) and Natural Lands present First Friday Organ Concerts in the Main House at Stoneleigh: a natural garden. These noontime concerts feature Stoneleigh’s mighty Aeolian-Skinner pipe organ. Local organists will perform a selection of sweeping musical pieces surrounded by the elegant beauty of the Tudor-revival style home. Come for the music and stay for the beauty of the garden sure to dazzle with autumnal color.   \nMina Choi is an award-winning musician who has shared her talent and passion with communities worldwide. Raised in Dallas\, she has earned degrees and various research opportunities from prestigious institutions worldwide: Royal College of Music in London (BMus)\, Yale University (MM)\, Conservatorium van Amsterdam in the Netherlands (MA)\, Staatliche Hochschule für Musik und Darstellende Kunst Stuttgart in Germany\, and the University of Illinois at Urbana-Champaign (DMA). \nShe has received numerous awards and scholarships during her studies. Also\, Mina was First Prize Winner of Max Reger Organ Competition in Leeuwarden (the Netherlands)\, and Third Prize winner of Franz Schmidt International Organ Competition in Austria. She also performed at major venues in Europe including the Grosvenor Chapel and St. George’s Church (Hanover Square) in London; St. Lawrencekerk (Alkmaar)\, Oudekerk\, and Nieuwekerk in the Netherlands. \nMina has been an organist at the Doylestown Presbyterian Church (PA) since 2014\, and she also works at Princeton Theological Seminary (Princeton\, New Jersey) as the Coordinator of Worship and Music for the Seminary’s daily chapel services. (www.choimina.com) \nphoto provided by OHS
URL:https://wp.natlands.org/event/organ-concert-stoneleigh-2025-1107/
LOCATION:Stoneleigh: <em>a natural garden</em>\, 1829 County Line Road\, Villanova\, Pennsylvania\, 19085
CATEGORIES:garden tours,general
ATTACH;FMTTYPE=image/jpeg:https://wp.natlands.org/wp-content/uploads/2025/01/088A5870-medium-e1741272559252.jpg
END:VEVENT
END:VCALENDAR