BEGIN:VCALENDAR
VERSION:2.0
PRODID:-//Natural Lands - ECPv6.15.18//NONSGML v1.0//EN
CALSCALE:GREGORIAN
METHOD:PUBLISH
X-ORIGINAL-URL:https://wp.natlands.org
X-WR-CALDESC:Events for Natural Lands
REFRESH-INTERVAL;VALUE=DURATION:PT1H
X-Robots-Tag:noindex
X-PUBLISHED-TTL:PT1H
BEGIN:VTIMEZONE
TZID:America/New_York
BEGIN:DAYLIGHT
TZOFFSETFROM:-0500
TZOFFSETTO:-0400
TZNAME:EDT
DTSTART:20250309T070000
END:DAYLIGHT
BEGIN:STANDARD
TZOFFSETFROM:-0400
TZOFFSETTO:-0500
TZNAME:EST
DTSTART:20251102T060000
END:STANDARD
BEGIN:DAYLIGHT
TZOFFSETFROM:-0500
TZOFFSETTO:-0400
TZNAME:EDT
DTSTART:20260308T070000
END:DAYLIGHT
BEGIN:STANDARD
TZOFFSETFROM:-0400
TZOFFSETTO:-0500
TZNAME:EST
DTSTART:20261101T060000
END:STANDARD
BEGIN:DAYLIGHT
TZOFFSETFROM:-0500
TZOFFSETTO:-0400
TZNAME:EDT
DTSTART:20270314T070000
END:DAYLIGHT
BEGIN:STANDARD
TZOFFSETFROM:-0400
TZOFFSETTO:-0500
TZNAME:EST
DTSTART:20271107T060000
END:STANDARD
END:VTIMEZONE
BEGIN:VEVENT
DTSTART;TZID=America/New_York:20260705T203000
DTEND;TZID=America/New_York:20260705T223000
DTSTAMP:20260422T214553
CREATED:20260410T202810Z
LAST-MODIFIED:20260410T202810Z
UID:10001404-1783283400-1783290600@wp.natlands.org
SUMMARY:Bioluminescent Lightshow
DESCRIPTION:Join us for an enchanting evening under the stars as we look for several different species of fireflies\, each emitting their unique glow. \nLed by volunteer Mike Slater and Events Coordinator Tianna Godsey\, this program will educate us about the behavior\, biology\, and conservation of fireflies while experiencing the wonder of nature’s living light show. \nPerfect for nature enthusiasts\, photographers\, families\, and anyone looking to escape into the magic of the evening\, this event will undoubtedly be one to remember.
URL:https://wp.natlands.org/event/lightshow-greenhills-0705-2026/
LOCATION:Green Hills Preserve\, 553 Gunhart Road\, Mohnton\, Pennsylvania\, 19540
CATEGORIES:explore the natural world,family and kid friendly,general,member perks
ATTACH;FMTTYPE=image/jpeg:https://wp.natlands.org/wp-content/uploads/2025/03/BigOak-FireFlies_A99II_June-13-24-113-srgb-1-e1742585709849.jpg
END:VEVENT
BEGIN:VEVENT
DTSTART;TZID=America/New_York:20260710T101500
DTEND;TZID=America/New_York:20260710T110000
DTSTAMP:20260422T214553
CREATED:20260422T153926Z
LAST-MODIFIED:20260422T153926Z
UID:10001475-1783678500-1783681200@wp.natlands.org
SUMMARY:PlayIn Time Music Circle
DESCRIPTION:Join our partners at PlayIn Time Productions for a weekly\, interactive musical program geared toward children ages newborn to five and their parents or caregivers. Instructor Virginia will guide you and your child through warming up their bodies with movement\, practicing listening skills using activities like freeze dances\, and jamming to classic and new tunes. PlayIn Time’s Music Circles build musical connection and community through shared fun. Get ready to dance\, jam\, and learn!  \nThings to know:  \n\nClasses will run on Friday mornings from 10:15am – 11:00am\, June 19th through August 14th (no class on July 3) \n\n\nJoin for the whole series or just for one or two sessions. Registration is available on PlayIn Time’s website\, linked below. \n\n\nIf you have them\, you are welcome to bring your own shakers\, sticks\, or other percussive instruments. \n\n\nClasses will be held outside on the Great Lawn so bring a blanket or lawn pad to sit on. \n\n\nPlease note that\, while the program is geared toward younger ages\, siblings ages 6 and older are welcome and can attend free of charge. \n\n 		\n			register now
URL:https://wp.natlands.org/event/playin-time-stoneleigh-2026-0710/
LOCATION:Stoneleigh: <em>a natural garden</em>\, 1829 County Line Road\, Villanova\, Pennsylvania\, 19085
CATEGORIES:arts & entertainment,family and kid friendly,general,music without walls
ATTACH;FMTTYPE=image/jpeg:https://wp.natlands.org/wp-content/uploads/2026/04/PXL_20250418_1431379162-e1776367582716.jpg
END:VEVENT
BEGIN:VEVENT
DTSTART;TZID=America/New_York:20260711T150000
DTEND;TZID=America/New_York:20260711T170000
DTSTAMP:20260422T214553
CREATED:20260325T170441Z
LAST-MODIFIED:20260325T170441Z
UID:10001423-1783782000-1783789200@wp.natlands.org
SUMMARY:Pints & Connect: Family Edition
DESCRIPTION:Natural Lands’ NextGen Council invites families to meet up for a few hours of fun and exploration. All activities are free\, but registration is requested. \nAt the pavilion: \n\nMake crafts to take home.\nEnjoy lounging\, lawn games\, and outdoor fun.\nSmall snacks will be available for CASH-ONLY purchase.\nPints for the grown-ups (cash or credit card).\n\nAt Ollie Owl’s NaturePlayGround \n\nSearch for clues for the Ollie Owl Scavenger Hunt.\nClimb logs\, build stick teepees\, hunt for bugs\, explore small streams\, and get a little dirty\, tired\, and inspired.\nFree play is encouraged and is a great way for kids to gain an appreciation for nature.\nOllie Owl’s NaturePlayGround is designed for children ages 4 to 12 years old\, but older kids and adults have fun\, too. Children must be accompanied by a parent or guardian.\n\nKiddos are encouraged to explore at their own pace\, so stay and play as little or long as you like in this drop-in event. \nThis event is made possible by the\ngenerous support of the Kulicke Fund.
URL:https://wp.natlands.org/event/pintsfamily-cheslen-2026-0711/
LOCATION:ChesLen Preserve\, 1199 Cannery Road\, Coatesville\, Pennsylvania\, 19320
CATEGORIES:family and kid friendly,general,pints on the preserve
ATTACH;FMTTYPE=image/jpeg:https://wp.natlands.org/wp-content/uploads/2025/01/ChesLen-NaturePlayDay-2015-0728-Oliver-Bass-14-medium-e1741274037282.jpg
END:VEVENT
BEGIN:VEVENT
DTSTART;TZID=America/New_York:20260711T203000
DTEND;TZID=America/New_York:20260711T223000
DTSTAMP:20260422T214553
CREATED:20260410T203619Z
LAST-MODIFIED:20260410T203654Z
UID:10001405-1783801800-1783809000@wp.natlands.org
SUMMARY:Bioluminescent Lightshow
DESCRIPTION:Join us for an enchanting evening under the stars as we look for several different species of fireflies\, each emitting their unique glow. \nLed by volunteer Mike Slater and Events Coordinator Tianna Godsey\, this program will educate us about the behavior\, biology\, and conservation of fireflies while experiencing the wonder of nature’s living light show. \nPerfect for nature enthusiasts\, photographers\, families\, and anyone looking to escape into the magic of the evening\, this event will undoubtedly be one to remember.
URL:https://wp.natlands.org/event/lightshow-greenhills-0711-2026/
LOCATION:Green Hills Preserve\, 553 Gunhart Road\, Mohnton\, Pennsylvania\, 19540
CATEGORIES:explore the natural world,family and kid friendly,general,member perks
ATTACH;FMTTYPE=image/jpeg:https://wp.natlands.org/wp-content/uploads/2025/03/BigOak-FireFlies_A99II_June-13-24-113-srgb-1-e1742585709849.jpg
END:VEVENT
BEGIN:VEVENT
DTSTART;TZID=America/New_York:20260717T101500
DTEND;TZID=America/New_York:20260717T110000
DTSTAMP:20260422T214553
CREATED:20260422T154712Z
LAST-MODIFIED:20260422T154712Z
UID:10001476-1784283300-1784286000@wp.natlands.org
SUMMARY:PlayIn Time Music Circle
DESCRIPTION:Join our partners at PlayIn Time Productions for a weekly\, interactive musical program geared toward children ages newborn to five and their parents or caregivers. Instructor Virginia will guide you and your child through warming up their bodies with movement\, practicing listening skills using activities like freeze dances\, and jamming to classic and new tunes. PlayIn Time’s Music Circles build musical connection and community through shared fun. Get ready to dance\, jam\, and learn!  \nThings to know:  \n\nClasses will run on Friday mornings from 10:15am – 11:00am\, June 19th through August 14th (no class on July 3) \n\n\nJoin for the whole series or just for one or two sessions. Registration is available on PlayIn Time’s website\, linked below. \n\n\nIf you have them\, you are welcome to bring your own shakers\, sticks\, or other percussive instruments. \n\n\nClasses will be held outside on the Great Lawn so bring a blanket or lawn pad to sit on. \n\n\nPlease note that\, while the program is geared toward younger ages\, siblings ages 6 and older are welcome and can attend free of charge. \n\n 		\n			register now
URL:https://wp.natlands.org/event/playin-time-stoneleigh-2026-0717/
LOCATION:Stoneleigh: <em>a natural garden</em>\, 1829 County Line Road\, Villanova\, Pennsylvania\, 19085
CATEGORIES:arts & entertainment,family and kid friendly,general,music without walls
ATTACH;FMTTYPE=image/jpeg:https://wp.natlands.org/wp-content/uploads/2026/04/PXL_20250418_1431379162-e1776367582716.jpg
END:VEVENT
BEGIN:VEVENT
DTSTART;TZID=America/New_York:20260724T101500
DTEND;TZID=America/New_York:20260724T110000
DTSTAMP:20260422T214553
CREATED:20260422T154856Z
LAST-MODIFIED:20260422T154856Z
UID:10001477-1784888100-1784890800@wp.natlands.org
SUMMARY:PlayIn Time Music Circle
DESCRIPTION:Join our partners at PlayIn Time Productions for a weekly\, interactive musical program geared toward children ages newborn to five and their parents or caregivers. Instructor Virginia will guide you and your child through warming up their bodies with movement\, practicing listening skills using activities like freeze dances\, and jamming to classic and new tunes. PlayIn Time’s Music Circles build musical connection and community through shared fun. Get ready to dance\, jam\, and learn!  \nThings to know:  \n\nClasses will run on Friday mornings from 10:15am – 11:00am\, June 19th through August 14th (no class on July 3) \n\n\nJoin for the whole series or just for one or two sessions. Registration is available on PlayIn Time’s website\, linked below. \n\n\nIf you have them\, you are welcome to bring your own shakers\, sticks\, or other percussive instruments. \n\n\nClasses will be held outside on the Great Lawn so bring a blanket or lawn pad to sit on. \n\n\nPlease note that\, while the program is geared toward younger ages\, siblings ages 6 and older are welcome and can attend free of charge. \n\n 		\n			register now
URL:https://wp.natlands.org/event/playin-time-stoneleigh-2026-0724/
LOCATION:Stoneleigh: <em>a natural garden</em>\, 1829 County Line Road\, Villanova\, Pennsylvania\, 19085
CATEGORIES:arts & entertainment,family and kid friendly,general,music without walls
ATTACH;FMTTYPE=image/jpeg:https://wp.natlands.org/wp-content/uploads/2026/04/PXL_20250418_1431379162-e1776367582716.jpg
END:VEVENT
BEGIN:VEVENT
DTSTART;TZID=America/New_York:20260731T101500
DTEND;TZID=America/New_York:20260731T110000
DTSTAMP:20260422T214553
CREATED:20260422T155039Z
LAST-MODIFIED:20260422T155054Z
UID:10001479-1785492900-1785495600@wp.natlands.org
SUMMARY:PlayIn Time Music Circle
DESCRIPTION:Join our partners at PlayIn Time Productions for a weekly\, interactive musical program geared toward children ages newborn to five and their parents or caregivers. Instructor Virginia will guide you and your child through warming up their bodies with movement\, practicing listening skills using activities like freeze dances\, and jamming to classic and new tunes. PlayIn Time’s Music Circles build musical connection and community through shared fun. Get ready to dance\, jam\, and learn!  \nThings to know:  \n\nClasses will run on Friday mornings from 10:15am – 11:00am\, June 19th through August 14th (no class on July 3) \n\n\nJoin for the whole series or just for one or two sessions. Registration is available on PlayIn Time’s website\, linked below. \n\n\nIf you have them\, you are welcome to bring your own shakers\, sticks\, or other percussive instruments. \n\n\nClasses will be held outside on the Great Lawn so bring a blanket or lawn pad to sit on. \n\n\nPlease note that\, while the program is geared toward younger ages\, siblings ages 6 and older are welcome and can attend free of charge. \n\n 		\n			register now
URL:https://wp.natlands.org/event/playin-time-stoneleigh-2026-0731/
LOCATION:Stoneleigh: <em>a natural garden</em>\, 1829 County Line Road\, Villanova\, Pennsylvania\, 19085
CATEGORIES:arts & entertainment,family and kid friendly,general,music without walls
ATTACH;FMTTYPE=image/jpeg:https://wp.natlands.org/wp-content/uploads/2026/04/PXL_20250418_1431379162-e1776367582716.jpg
END:VEVENT
BEGIN:VEVENT
DTSTART;TZID=America/New_York:20260807T101500
DTEND;TZID=America/New_York:20260807T110000
DTSTAMP:20260422T214553
CREATED:20260422T155334Z
LAST-MODIFIED:20260422T155334Z
UID:10001478-1786097700-1786100400@wp.natlands.org
SUMMARY:PlayIn Time Music Circle
DESCRIPTION:Join our partners at PlayIn Time Productions for a weekly\, interactive musical program geared toward children ages newborn to five and their parents or caregivers. Instructor Virginia will guide you and your child through warming up their bodies with movement\, practicing listening skills using activities like freeze dances\, and jamming to classic and new tunes. PlayIn Time’s Music Circles build musical connection and community through shared fun. Get ready to dance\, jam\, and learn!  \nThings to know:  \n\nClasses will run on Friday mornings from 10:15am – 11:00am\, June 19th through August 14th (no class on July 3) \n\n\nJoin for the whole series or just for one or two sessions. Registration is available on PlayIn Time’s website\, linked below. \n\n\nIf you have them\, you are welcome to bring your own shakers\, sticks\, or other percussive instruments. \n\n\nClasses will be held outside on the Great Lawn so bring a blanket or lawn pad to sit on. \n\n\nPlease note that\, while the program is geared toward younger ages\, siblings ages 6 and older are welcome and can attend free of charge. \n\n 		\n			register now
URL:https://wp.natlands.org/event/playin-time-stoneleigh-2026-0807/
LOCATION:Stoneleigh: <em>a natural garden</em>\, 1829 County Line Road\, Villanova\, Pennsylvania\, 19085
CATEGORIES:arts & entertainment,family and kid friendly,general,music without walls
ATTACH;FMTTYPE=image/jpeg:https://wp.natlands.org/wp-content/uploads/2026/04/PXL_20250418_1431379162-e1776367582716.jpg
END:VEVENT
BEGIN:VEVENT
DTSTART;TZID=America/New_York:20260814T101500
DTEND;TZID=America/New_York:20260814T110000
DTSTAMP:20260422T214553
CREATED:20260422T155458Z
LAST-MODIFIED:20260422T155458Z
UID:10001480-1786702500-1786705200@wp.natlands.org
SUMMARY:PlayIn Time Music Circle
DESCRIPTION:Join our partners at PlayIn Time Productions for a weekly\, interactive musical program geared toward children ages newborn to five and their parents or caregivers. Instructor Virginia will guide you and your child through warming up their bodies with movement\, practicing listening skills using activities like freeze dances\, and jamming to classic and new tunes. PlayIn Time’s Music Circles build musical connection and community through shared fun. Get ready to dance\, jam\, and learn!  \nThings to know:  \n\nClasses will run on Friday mornings from 10:15am – 11:00am\, June 19th through August 14th (no class on July 3) \n\n\nJoin for the whole series or just for one or two sessions. Registration is available on PlayIn Time’s website\, linked below. \n\n\nIf you have them\, you are welcome to bring your own shakers\, sticks\, or other percussive instruments. \n\n\nClasses will be held outside on the Great Lawn so bring a blanket or lawn pad to sit on. \n\n\nPlease note that\, while the program is geared toward younger ages\, siblings ages 6 and older are welcome and can attend free of charge. \n\n 		\n			register now
URL:https://wp.natlands.org/event/playin-time-stoneleigh-2026-0814/
LOCATION:Stoneleigh: <em>a natural garden</em>\, 1829 County Line Road\, Villanova\, Pennsylvania\, 19085
CATEGORIES:arts & entertainment,family and kid friendly,general,music without walls
ATTACH;FMTTYPE=image/jpeg:https://wp.natlands.org/wp-content/uploads/2026/04/PXL_20250418_1431379162-e1776367582716.jpg
END:VEVENT
END:VCALENDAR