BEGIN:VCALENDAR
VERSION:2.0
PRODID:-//Natural Lands - ECPv6.15.18//NONSGML v1.0//EN
CALSCALE:GREGORIAN
METHOD:PUBLISH
X-ORIGINAL-URL:https://wp.natlands.org
X-WR-CALDESC:Events for Natural Lands
REFRESH-INTERVAL;VALUE=DURATION:PT1H
X-Robots-Tag:noindex
X-PUBLISHED-TTL:PT1H
BEGIN:VTIMEZONE
TZID:America/New_York
BEGIN:DAYLIGHT
TZOFFSETFROM:-0500
TZOFFSETTO:-0400
TZNAME:EDT
DTSTART:20240310T070000
END:DAYLIGHT
BEGIN:STANDARD
TZOFFSETFROM:-0400
TZOFFSETTO:-0500
TZNAME:EST
DTSTART:20241103T060000
END:STANDARD
BEGIN:DAYLIGHT
TZOFFSETFROM:-0500
TZOFFSETTO:-0400
TZNAME:EDT
DTSTART:20250309T070000
END:DAYLIGHT
BEGIN:STANDARD
TZOFFSETFROM:-0400
TZOFFSETTO:-0500
TZNAME:EST
DTSTART:20251102T060000
END:STANDARD
BEGIN:DAYLIGHT
TZOFFSETFROM:-0500
TZOFFSETTO:-0400
TZNAME:EDT
DTSTART:20260308T070000
END:DAYLIGHT
BEGIN:STANDARD
TZOFFSETFROM:-0400
TZOFFSETTO:-0500
TZNAME:EST
DTSTART:20261101T060000
END:STANDARD
END:VTIMEZONE
BEGIN:VEVENT
DTSTART;TZID=America/New_York:20251223T083000
DTEND;TZID=America/New_York:20251223T120000
DTSTAMP:20260421T132207
CREATED:20251017T201314Z
LAST-MODIFIED:20251118T142108Z
UID:10001099-1766478600-1766491200@wp.natlands.org
SUMMARY:Volunteer - Undecorate the Main House - FULL
DESCRIPTION:This event is full. Please join us for a future event.  \nJoin us for a fun and festive morning as we “undecorate” the Main House after our Home for the Holidays event. Treats and music provided!   \nMeet at the Main House. This volunteer event will be held indoors.  \nCapacity is limited for this small-group event\, and pre-registration is required. If you sign –up\, please show up. If you need to cancel\, please let us know so another volunteer can attend. Open to adults only. 
URL:https://wp.natlands.org/event/undecorate-stoneleigh-2025-1223/
LOCATION:Stoneleigh: <em>a natural garden</em>\, 1829 County Line Road\, Villanova\, Pennsylvania\, 19085
CATEGORIES:volunteer
ATTACH;FMTTYPE=image/jpeg:https://wp.natlands.org/wp-content/uploads/2025/09/088A5783-e1757611759116.jpg
END:VEVENT
END:VCALENDAR