BEGIN:VCALENDAR
VERSION:2.0
PRODID:-//Natural Lands - ECPv6.15.18//NONSGML v1.0//EN
CALSCALE:GREGORIAN
METHOD:PUBLISH
X-WR-CALNAME:Natural Lands
X-ORIGINAL-URL:https://wp.natlands.org
X-WR-CALDESC:Events for Natural Lands
REFRESH-INTERVAL;VALUE=DURATION:PT1H
X-Robots-Tag:noindex
X-PUBLISHED-TTL:PT1H
BEGIN:VTIMEZONE
TZID:America/New_York
BEGIN:DAYLIGHT
TZOFFSETFROM:-0500
TZOFFSETTO:-0400
TZNAME:EDT
DTSTART:20240310T070000
END:DAYLIGHT
BEGIN:STANDARD
TZOFFSETFROM:-0400
TZOFFSETTO:-0500
TZNAME:EST
DTSTART:20241103T060000
END:STANDARD
BEGIN:DAYLIGHT
TZOFFSETFROM:-0500
TZOFFSETTO:-0400
TZNAME:EDT
DTSTART:20250309T070000
END:DAYLIGHT
BEGIN:STANDARD
TZOFFSETFROM:-0400
TZOFFSETTO:-0500
TZNAME:EST
DTSTART:20251102T060000
END:STANDARD
BEGIN:DAYLIGHT
TZOFFSETFROM:-0500
TZOFFSETTO:-0400
TZNAME:EDT
DTSTART:20260308T070000
END:DAYLIGHT
BEGIN:STANDARD
TZOFFSETFROM:-0400
TZOFFSETTO:-0500
TZNAME:EST
DTSTART:20261101T060000
END:STANDARD
END:VTIMEZONE
BEGIN:VEVENT
DTSTART;TZID=America/New_York:20251221T120000
DTEND;TZID=America/New_York:20251221T140000
DTSTAMP:20260421T131829
CREATED:20251001T183940Z
LAST-MODIFIED:20251218T180038Z
UID:10001067-1766318400-1766325600@wp.natlands.org
SUMMARY:Home for the Holidays - SOLD OUT
DESCRIPTION:This event is sold out. Please join us Saturday\, December 20\, 1:30 – 3:30 PM   \nThe gardens at Stoneleigh steal the show from spring to fall\, but in wintertime\, the warmth of the Main House beckons. During this exclusive holiday “open house\,” explore the spectacular Tudor Revival-style mansion while it is decked with nature-inspired decorations.    \nStroll through the home\, indulge in seasonal beverages and tasty treats\, and enjoy musical performances from local choirs\, instrumentalists\, and organists in a festive and cozy setting. \nToday’s event will include musical selections on Stoneleigh’s mighty Aeolian-Skinner pipe organ featuring a local organist and the Haverford High School Choir.
URL:https://wp.natlands.org/event/homeholidays-stoneleigh-2025-1221/
LOCATION:Stoneleigh: <em>a natural garden</em>\, 1829 County Line Road\, Villanova\, Pennsylvania\, 19085
CATEGORIES:garden tours,general,member perks
ATTACH;FMTTYPE=image/jpeg:https://wp.natlands.org/wp-content/uploads/2025/09/5P1A6148-small-e1757611666374.jpg
END:VEVENT
END:VCALENDAR