BEGIN:VCALENDAR
VERSION:2.0
PRODID:-//Natural Lands - ECPv6.15.18//NONSGML v1.0//EN
CALSCALE:GREGORIAN
METHOD:PUBLISH
X-ORIGINAL-URL:https://wp.natlands.org
X-WR-CALDESC:Events for Natural Lands
REFRESH-INTERVAL;VALUE=DURATION:PT1H
X-Robots-Tag:noindex
X-PUBLISHED-TTL:PT1H
BEGIN:VTIMEZONE
TZID:America/New_York
BEGIN:DAYLIGHT
TZOFFSETFROM:-0500
TZOFFSETTO:-0400
TZNAME:EDT
DTSTART:20240310T070000
END:DAYLIGHT
BEGIN:STANDARD
TZOFFSETFROM:-0400
TZOFFSETTO:-0500
TZNAME:EST
DTSTART:20241103T060000
END:STANDARD
BEGIN:DAYLIGHT
TZOFFSETFROM:-0500
TZOFFSETTO:-0400
TZNAME:EDT
DTSTART:20250309T070000
END:DAYLIGHT
BEGIN:STANDARD
TZOFFSETFROM:-0400
TZOFFSETTO:-0500
TZNAME:EST
DTSTART:20251102T060000
END:STANDARD
BEGIN:DAYLIGHT
TZOFFSETFROM:-0500
TZOFFSETTO:-0400
TZNAME:EDT
DTSTART:20260308T070000
END:DAYLIGHT
BEGIN:STANDARD
TZOFFSETFROM:-0400
TZOFFSETTO:-0500
TZNAME:EST
DTSTART:20261101T060000
END:STANDARD
END:VTIMEZONE
BEGIN:VEVENT
DTSTART;TZID=America/New_York:20251213T090000
DTEND;TZID=America/New_York:20251213T113000
DTSTAMP:20260421T132252
CREATED:20251002T201049Z
LAST-MODIFIED:20251126T203437Z
UID:10001071-1765616400-1765625400@wp.natlands.org
SUMMARY:Volunteer - Care for Nature
DESCRIPTION:Love nature and want to lend her a helping hand? Grab gloves and join fellow volunteers in nurturing nature. Good fun (and dirt) is guaranteed! Natural Lands cares for more than 23\,000 acres and 120 miles of trails\, and we couldn’t do it without volunteers like you. \nVolunteering with Natural Lands is a great way to learn more about the natural world\, give your time to a great cause\, and connect with enthusiastic\, like-minded people. \nThe health and safety of staff and volunteers is our highest priority during this volunteer event. Please review “before you go” details. \nCapacity is limited for this small-group event. If you sign-up\, please show up. If you need to cancel\, please let us know so another volunteer can attend. All are welcome\, ages 12 and up. Minors ages 12-17 must be accompanied by an adult and registered in the same transaction with their guardian.
URL:https://wp.natlands.org/event/volunteer-gwynedd-2025-1213/
LOCATION:Gwynedd Preserve\, 640 Swedesford Road\, North Wales\, Pennsylvania\, 19454
CATEGORIES:volunteer
ATTACH;FMTTYPE=image/jpeg:https://wp.natlands.org/wp-content/uploads/2025/07/Volunteers-Gwynedd-Shrub-Planting-2019-1030-by-Debbie-Beer-5-e1752265467414.jpg
END:VEVENT
BEGIN:VEVENT
DTSTART;TZID=America/New_York:20251213T100000
DTEND;TZID=America/New_York:20251213T120000
DTSTAMP:20260421T132252
CREATED:20251001T183550Z
LAST-MODIFIED:20251126T203127Z
UID:10001062-1765620000-1765627200@wp.natlands.org
SUMMARY:Home for the Holidays
DESCRIPTION:The gardens at Stoneleigh steal the show from spring to fall\, but in wintertime\, the warmth of the Main House beckons. During this exclusive holiday “open house\,” explore the spectacular Tudor Revival-style mansion while it is decked with nature-inspired decorations.    \nStroll through the home\, indulge in seasonal beverages and tasty treats\, and enjoy musical performances from local choirs\, instrumentalists\, and organists in a festive and cozy setting.  \nToday’s event will include musical selections on Stoneleigh’s mighty Aeolian-Skinner pipe organ featuring a local organist and The Bel Cantos\, A Capella group from Agnes Irwin Upper School \n \nCan’t make it at this date/time? Find the rest of the scheduled tours below:   \n\nSaturday\, December 13\, 10:00 AM – 12:00 PM  \n\n\nSaturday\, December 13\, 1:30 – 3:30 PM  \n\n\nSunday\, December 14\, 10:00 AM – 12:00 PM  \n\n\nSunday\, December 14\, 1:30 – 3:30 PM  \n\n\nSaturday\, December 20\, 10:00 AM – 12:00 PM  \n\n\nSunday\, December 21\, 12:00 – 2:00 PM
URL:https://wp.natlands.org/event/home-holidays-stoneleigh-2025-1213/
LOCATION:Stoneleigh: <em>a natural garden</em>\, 1829 County Line Road\, Villanova\, Pennsylvania\, 19085
CATEGORIES:garden tours,general,member perks
ATTACH;FMTTYPE=image/jpeg:https://wp.natlands.org/wp-content/uploads/2025/09/5P1A6133-e1757610709412.jpg
END:VEVENT
BEGIN:VEVENT
DTSTART;TZID=America/New_York:20251213T133000
DTEND;TZID=America/New_York:20251213T153000
DTSTAMP:20260421T132253
CREATED:20251001T183654Z
LAST-MODIFIED:20251110T201620Z
UID:10001063-1765632600-1765639800@wp.natlands.org
SUMMARY:Home for the Holidays
DESCRIPTION:The gardens at Stoneleigh steal the show from spring to fall\, but in wintertime\, the warmth of the Main House beckons. During this exclusive holiday “open house\,” explore the spectacular Tudor Revival-style mansion while it is decked with nature-inspired decorations.    \nStroll through the home\, indulge in seasonal beverages and tasty treats\, and enjoy musical performances from local choirs\, instrumentalists\, and organists in a festive and cozy setting.   \nToday’s event will include musical selections on Stoneleigh’s mighty Aeolian-Skinner pipe organ featuring a local organist and the The Crowtet – a French Horn Quartet.   \nThe Crowtet  \nFounded in 2024 after destiny brought them together in the same ensemble\, the Crowtet French Horn Quartet features four Hornists from Southeastern Pennsylvania whose passion and love for their instrument brought them together to share their musical message for all to hear and enjoy. While many may view the members of the Crowtet as mysterious and tricksters by nature\, they fearlessly soar beak first into the fray and perform a wide array of chamber music. Works include the classics that were brought forth by wise and prominent composers\, to popular and modern pieces that deliver that sense of nostalgia and delight. Join our murder for a night of fun that you won’t forget!  \n \nCan’t make it at this date/time? Find the rest of the scheduled tours below:   \n\nSaturday\, December 13\, 10:00 AM – 12:00 PM  \n\n\nSaturday\, December 13\, 1:30 – 3:30 PM  \n\n\nSunday\, December 14\, 10:00 AM – 12:00 PM  \n\n\nSunday\, December 14\, 1:30 – 3:30 PM  \n\n\nSaturday\, December 20\, 10:00 AM – 12:00 PM  \n\n\nSunday\, December 21\, 12:00 – 2:00 PM
URL:https://wp.natlands.org/event/homeholidays-stoneleigh-2025-1213p/
LOCATION:Stoneleigh: <em>a natural garden</em>\, 1829 County Line Road\, Villanova\, Pennsylvania\, 19085
CATEGORIES:garden tours,general,member perks
ATTACH;FMTTYPE=image/jpeg:https://wp.natlands.org/wp-content/uploads/2025/09/5P1A6148-small-e1757611666374.jpg
END:VEVENT
END:VCALENDAR