BEGIN:VCALENDAR
VERSION:2.0
PRODID:-//Natural Lands - ECPv6.15.18//NONSGML v1.0//EN
CALSCALE:GREGORIAN
METHOD:PUBLISH
X-ORIGINAL-URL:https://wp.natlands.org
X-WR-CALDESC:Events for Natural Lands
REFRESH-INTERVAL;VALUE=DURATION:PT1H
X-Robots-Tag:noindex
X-PUBLISHED-TTL:PT1H
BEGIN:VTIMEZONE
TZID:America/New_York
BEGIN:DAYLIGHT
TZOFFSETFROM:-0500
TZOFFSETTO:-0400
TZNAME:EDT
DTSTART:20240310T070000
END:DAYLIGHT
BEGIN:STANDARD
TZOFFSETFROM:-0400
TZOFFSETTO:-0500
TZNAME:EST
DTSTART:20241103T060000
END:STANDARD
BEGIN:DAYLIGHT
TZOFFSETFROM:-0500
TZOFFSETTO:-0400
TZNAME:EDT
DTSTART:20250309T070000
END:DAYLIGHT
BEGIN:STANDARD
TZOFFSETFROM:-0400
TZOFFSETTO:-0500
TZNAME:EST
DTSTART:20251102T060000
END:STANDARD
BEGIN:DAYLIGHT
TZOFFSETFROM:-0500
TZOFFSETTO:-0400
TZNAME:EDT
DTSTART:20260308T070000
END:DAYLIGHT
BEGIN:STANDARD
TZOFFSETFROM:-0400
TZOFFSETTO:-0500
TZNAME:EST
DTSTART:20261101T060000
END:STANDARD
END:VTIMEZONE
BEGIN:VEVENT
DTSTART;TZID=America/New_York:20251203T083000
DTEND;TZID=America/New_York:20251203T113000
DTSTAMP:20260421T132157
CREATED:20250930T184222Z
LAST-MODIFIED:20250930T184222Z
UID:10001049-1764750600-1764761400@wp.natlands.org
SUMMARY:Volunteer - Winter Gardening
DESCRIPTION:Did you know more than 100\,000 plants thrive at Stoneleigh: a natural garden? Grab gloves and join staff and fellow volunteers for seasonal garden projects. \nVolunteering with Natural Lands is a great way to learn more about the natural world\, give your time to a great cause\, and connect with like-minded people. \nCapacity is limited for this small-group event\, and pre-registration is required. If you sign-up\, please show-up. If you need to cancel\, please let us know so another volunteer can attend. All are welcome\, ages 12 and up. Children age 12-14 must be accompanied by an adult. \nPlease note that the volunteer activity for this date may support our Home for the Holidays event and could include greens and natural materials collection.
URL:https://wp.natlands.org/event/volunteer-stoneleigh-2025-1203/
LOCATION:Stoneleigh: <em>a natural garden</em>\, 1829 County Line Road\, Villanova\, Pennsylvania\, 19085
CATEGORIES:volunteer
ATTACH;FMTTYPE=image/jpeg:https://wp.natlands.org/wp-content/uploads/2025/09/DSC0440-small-e1757611338749.jpg
END:VEVENT
BEGIN:VEVENT
DTSTART;TZID=America/New_York:20251203T083000
DTEND;TZID=America/New_York:20251203T113000
DTSTAMP:20260421T132157
CREATED:20251010T200541Z
LAST-MODIFIED:20251010T200622Z
UID:10001090-1764750600-1764761400@wp.natlands.org
SUMMARY:Volunteer - Craft Winter Décor
DESCRIPTION:Join us for fun and festivity as we create natural décor for Stoneleigh’s Main House. Stoneleigh staff will guide you through the process of crafting wreaths\, garlands\, ornaments\, and more that will delight and inspire guests during our Home for the Holidays event series.  \nBring gloves\, pruners\, and your creativity\, we’ll provide the rest. This volunteer event will be held indoors.  \nCapacity is limited for this small-group event\, and pre-registration is required. If you sign –up\, please show up. If you need to cancel\, please let us know so another volunteer can attend. Open to adults only.  \nPlease note: this is not a make-and-take event. All decorations created will be used in the Main House during our Home for the Holidays series. 
URL:https://wp.natlands.org/event/vol-craft-stoneleigh-2025-1203-am/
LOCATION:Stoneleigh: <em>a natural garden</em>\, 1829 County Line Road\, Villanova\, Pennsylvania\, 19085
CATEGORIES:volunteer
ATTACH;FMTTYPE=image/jpeg:https://wp.natlands.org/wp-content/uploads/2025/09/Volunteers-Stoneleigh-Craft-Decor-2019-1119-by-Sam-Nestory-3-e1757611691789.jpg
END:VEVENT
BEGIN:VEVENT
DTSTART;TZID=America/New_York:20251203T123000
DTEND;TZID=America/New_York:20251203T150000
DTSTAMP:20260421T132157
CREATED:20251010T201322Z
LAST-MODIFIED:20251010T201322Z
UID:10001092-1764765000-1764774000@wp.natlands.org
SUMMARY:Volunteer - Craft Winter Décor
DESCRIPTION:Join us for fun and festivity as we create natural décor for Stoneleigh’s Main House. Stoneleigh staff will guide you through the process of crafting wreaths\, garlands\, ornaments\, and more that will delight and inspire guests during our Home for the Holidays event series.  \nBring gloves\, pruners\, and your creativity\, we’ll provide the rest. This volunteer event will be held indoors.  \nCapacity is limited for this small-group event\, and pre-registration is required. If you sign –up\, please show up. If you need to cancel\, please let us know so another volunteer can attend. Open to adults only.  \nPlease note: this is not a make-and-take event. All decorations created will be used in the Main House during our Home for the Holidays series. 
URL:https://wp.natlands.org/event/vol-craft-stoneleigh-2025-1203-pm/
LOCATION:Stoneleigh: <em>a natural garden</em>\, 1829 County Line Road\, Villanova\, Pennsylvania\, 19085
CATEGORIES:volunteer
ATTACH;FMTTYPE=image/jpeg:https://wp.natlands.org/wp-content/uploads/2025/09/Volunteers-Stoneleigh-Craft-Decor-2019-1119-by-Sam-Nestory-1-e1757611711673.jpg
END:VEVENT
END:VCALENDAR