BEGIN:VCALENDAR
VERSION:2.0
PRODID:-//Natural Lands - ECPv6.15.18//NONSGML v1.0//EN
CALSCALE:GREGORIAN
METHOD:PUBLISH
X-ORIGINAL-URL:https://wp.natlands.org
X-WR-CALDESC:Events for Natural Lands
REFRESH-INTERVAL;VALUE=DURATION:PT1H
X-Robots-Tag:noindex
X-PUBLISHED-TTL:PT1H
BEGIN:VTIMEZONE
TZID:America/New_York
BEGIN:DAYLIGHT
TZOFFSETFROM:-0500
TZOFFSETTO:-0400
TZNAME:EDT
DTSTART:20240310T070000
END:DAYLIGHT
BEGIN:STANDARD
TZOFFSETFROM:-0400
TZOFFSETTO:-0500
TZNAME:EST
DTSTART:20241103T060000
END:STANDARD
BEGIN:DAYLIGHT
TZOFFSETFROM:-0500
TZOFFSETTO:-0400
TZNAME:EDT
DTSTART:20250309T070000
END:DAYLIGHT
BEGIN:STANDARD
TZOFFSETFROM:-0400
TZOFFSETTO:-0500
TZNAME:EST
DTSTART:20251102T060000
END:STANDARD
BEGIN:DAYLIGHT
TZOFFSETFROM:-0500
TZOFFSETTO:-0400
TZNAME:EDT
DTSTART:20260308T070000
END:DAYLIGHT
BEGIN:STANDARD
TZOFFSETFROM:-0400
TZOFFSETTO:-0500
TZNAME:EST
DTSTART:20261101T060000
END:STANDARD
END:VTIMEZONE
BEGIN:VEVENT
DTSTART;TZID=America/New_York:20251201T083000
DTEND;TZID=America/New_York:20251201T113000
DTSTAMP:20260423T153325
CREATED:20250930T182708Z
LAST-MODIFIED:20250930T182708Z
UID:10001047-1764577800-1764588600@wp.natlands.org
SUMMARY:Volunteer - Winter Gardening
DESCRIPTION:Did you know more than 100\,000 plants thrive at Stoneleigh: a natural garden? Grab gloves and join staff and fellow volunteers for seasonal garden projects. \nVolunteering with Natural Lands is a great way to learn more about the natural world\, give your time to a great cause\, and connect with like-minded people. \nCapacity is limited for this small-group event\, and pre-registration is required. If you sign-up\, please show-up. If you need to cancel\, please let us know so another volunteer can attend. All are welcome\, ages 12 and up. Children age 12-14 must be accompanied by an adult. \nPlease note that the volunteer activity for this date may support our Home for the Holidays event and could include greens and natural materials collection.
URL:https://wp.natlands.org/event/volunteer-stoneleigh-2025-1201/
LOCATION:Stoneleigh: <em>a natural garden</em>\, 1829 County Line Road\, Villanova\, Pennsylvania\, 19085
CATEGORIES:volunteer
ATTACH;FMTTYPE=image/jpeg:https://wp.natlands.org/wp-content/uploads/2025/09/Rhododendron-minus-H-19-small-e1757611217821.jpg
END:VEVENT
END:VCALENDAR