BEGIN:VCALENDAR
VERSION:2.0
PRODID:-//Natural Lands - ECPv6.15.18//NONSGML v1.0//EN
CALSCALE:GREGORIAN
METHOD:PUBLISH
X-ORIGINAL-URL:https://wp.natlands.org
X-WR-CALDESC:Events for Natural Lands
REFRESH-INTERVAL;VALUE=DURATION:PT1H
X-Robots-Tag:noindex
X-PUBLISHED-TTL:PT1H
BEGIN:VTIMEZONE
TZID:America/New_York
BEGIN:DAYLIGHT
TZOFFSETFROM:-0500
TZOFFSETTO:-0400
TZNAME:EDT
DTSTART:20240310T070000
END:DAYLIGHT
BEGIN:STANDARD
TZOFFSETFROM:-0400
TZOFFSETTO:-0500
TZNAME:EST
DTSTART:20241103T060000
END:STANDARD
BEGIN:DAYLIGHT
TZOFFSETFROM:-0500
TZOFFSETTO:-0400
TZNAME:EDT
DTSTART:20250309T070000
END:DAYLIGHT
BEGIN:STANDARD
TZOFFSETFROM:-0400
TZOFFSETTO:-0500
TZNAME:EST
DTSTART:20251102T060000
END:STANDARD
BEGIN:DAYLIGHT
TZOFFSETFROM:-0500
TZOFFSETTO:-0400
TZNAME:EDT
DTSTART:20260308T070000
END:DAYLIGHT
BEGIN:STANDARD
TZOFFSETFROM:-0400
TZOFFSETTO:-0500
TZNAME:EST
DTSTART:20261101T060000
END:STANDARD
END:VTIMEZONE
BEGIN:VEVENT
DTSTART;VALUE=DATE:20250911
DTEND;VALUE=DATE:20250912
DTSTAMP:20260420T074046
CREATED:20250625T164222Z
LAST-MODIFIED:20250625T164222Z
UID:10000854-1757548800-1757635199@wp.natlands.org
SUMMARY:Through the Wild Lens – Photo Contest at Mariton Wildlife Sanctuary
DESCRIPTION:Connect with the wonders of nature—and share the magic you see through your lens. \nNatural Lands invites photographers of all skill levels to participate in the inaugural “Through the Wild Lens” photo contest\, celebrating the beauty\, biodiversity\, and serenity of Mariton Wildlife Sanctuary in Easton\, PA. Whether it’s a fleeting moment of wildlife\, a quiet landscape\, or a close-up marvel of the forest\, we want to see what makes Mariton special to you. \nWhat we’re seeking: \nSubmit a single\, original photo that reflects your unique connection to Mariton. Categories may include (but aren’t limited to): \n\nLandscape photography\nWildlife in action\nMacro and detail photography\nEnvironmental storytelling\n\nLet your lens tell the story of Mariton’s wild\, subtle\, and serene spirit. \nShowcase & Celebration: \nSelected photographs will be featured in a special gallery exhibit at the Mariton Nature Center\, online\, and across our social media platforms. The overall winning photo will receive special recognition and will be framed and displayed at the Nature Center for a limited time. \nWe’ll celebrate with an Open House Showcase on March 18\, 2026\, where photographers\, community members\, and nature lovers are invited to enjoy the exhibit and connect with others inspired by the sanctuary. \nDeadline to Submit: Friday\, February 13\, 2026 \nQuestions? Contact Tianna Godsey at Natural Lands. Scroll down for a link to submit and more guidelines/details. \nWe can’t wait to see what you discover through your wild lens. \nSubmit your photo and be part of this unique celebration of Mariton’s natural beauty.
URL:https://wp.natlands.org/event/wildlens-submissioncall-sept/
CATEGORIES:general
ATTACH;FMTTYPE=image/jpeg:https://wp.natlands.org/wp-content/uploads/2025/05/2024061.jpg
END:VEVENT
BEGIN:VEVENT
DTSTART;TZID=America/New_York:20250911T083000
DTEND;TZID=America/New_York:20250911T113000
DTSTAMP:20260420T074046
CREATED:20250818T180709Z
LAST-MODIFIED:20250818T180709Z
UID:10000953-1757579400-1757590200@wp.natlands.org
SUMMARY:Volunteer - Fall Gardening
DESCRIPTION:Did you know more than 40\,000 plants thrive at Stoneleigh: a natural garden? Grab gloves and join staff and fellow volunteers in weeding\, planting\, mulching\, and other seasonal garden projects. \nVolunteering with Natural Lands is a great way to learn more about the natural world\, give your time to a great cause\, and connect with like-minded people. \nThe health and safety of staff and volunteers is our highest priority during this volunteer event. Please review “before you go” details. \nCapacity is limited for this small-group event\, and pre-registration is required. If you sign-up\, please show-up. If you need to cancel\, please let us know so another volunteer can attend. All are welcome\, ages 12 and up. Children age 12-14 must be accompanied by an adult.
URL:https://wp.natlands.org/event/volunteer-stoneleigh-2025-0911/
LOCATION:Stoneleigh: <em>a natural garden</em>\, 1829 County Line Road\, Villanova\, Pennsylvania\, 19085
CATEGORIES:volunteer
ATTACH;FMTTYPE=image/jpeg:https://wp.natlands.org/wp-content/uploads/2025/01/DSC0264-medium.jpg
END:VEVENT
BEGIN:VEVENT
DTSTART;TZID=America/New_York:20250911T173000
DTEND;TZID=America/New_York:20250911T193000
DTSTAMP:20260420T074046
CREATED:20250625T141932Z
LAST-MODIFIED:20250903T182429Z
UID:10000845-1757611800-1757619000@wp.natlands.org
SUMMARY:Wine and Wander
DESCRIPTION:Join us for an exclusive\, after-hours tour featuring two of our favorite things: plants and wine. Led by Stoneleigh Director Ethan Kauffman and sommelier Michele Gargiulo\, take an evening stroll through the garden and enjoy a specially curated sampling of four different natural wines. Learn about the flavor profiles and unique characteristics of each wine\, all while exploring the spectacular beauty of Stoneleigh along the way. Register early for this sought-after event\, back by popular demand.
URL:https://wp.natlands.org/event/wine-stoneleigh-2025-0911/
LOCATION:Stoneleigh: <em>a natural garden</em>\, 1829 County Line Road\, Villanova\, Pennsylvania\, 19085
CATEGORIES:general,member perks
ATTACH;FMTTYPE=image/jpeg:https://wp.natlands.org/wp-content/uploads/2025/03/IMG_6030-scaled-1.jpg
END:VEVENT
BEGIN:VEVENT
DTSTART;TZID=America/New_York:20250911T183000
DTEND;TZID=America/New_York:20250911T193000
DTSTAMP:20260420T074046
CREATED:20250804T191134Z
LAST-MODIFIED:20250904T154230Z
UID:10000924-1757615400-1757619000@wp.natlands.org
SUMMARY:Outdoors Online: Fall and Winter Gardening for Wildlife
DESCRIPTION:Gardens are habitats all year round. How can you sustain wildlife in your yard over winter? Learn tricks and tips to make sure your property is a winter wonderland for native wildlife.   \nOur partner\, Julie Travaglini with Allegheny Land Trust\, will explore the benefits of preparing our gardens for the fall and winter seasons.  \nGrab a refreshment\, get cozy\, charge your laptop (or smartphone)\, and join the program via Zoom.    \nAbout our instructor:   \nJulie is the Senior Director of Education and Curriculum for Allegheny Land Trust’s. In her role\, she creates hands-on STEM and place-based lessons for children and adults alike as well as providing state accredited professional development for educators. 
URL:https://wp.natlands.org/event/wildlifegardening-online-2025-0911/
CATEGORIES:general,virtual events
ATTACH;FMTTYPE=image/jpeg:https://wp.natlands.org/wp-content/uploads/2025/09/WitchhazelSamNestory-e1756929058360.jpg
LOCATION:https://wp.natlands.org/event/wildlifegardening-online-2025-0911/
END:VEVENT
END:VCALENDAR