BEGIN:VCALENDAR
VERSION:2.0
PRODID:-//Natural Lands - ECPv6.15.18//NONSGML v1.0//EN
CALSCALE:GREGORIAN
METHOD:PUBLISH
X-ORIGINAL-URL:https://wp.natlands.org
X-WR-CALDESC:Events for Natural Lands
REFRESH-INTERVAL;VALUE=DURATION:PT1H
X-Robots-Tag:noindex
X-PUBLISHED-TTL:PT1H
BEGIN:VTIMEZONE
TZID:America/New_York
BEGIN:DAYLIGHT
TZOFFSETFROM:-0500
TZOFFSETTO:-0400
TZNAME:EDT
DTSTART:20240310T070000
END:DAYLIGHT
BEGIN:STANDARD
TZOFFSETFROM:-0400
TZOFFSETTO:-0500
TZNAME:EST
DTSTART:20241103T060000
END:STANDARD
BEGIN:DAYLIGHT
TZOFFSETFROM:-0500
TZOFFSETTO:-0400
TZNAME:EDT
DTSTART:20250309T070000
END:DAYLIGHT
BEGIN:STANDARD
TZOFFSETFROM:-0400
TZOFFSETTO:-0500
TZNAME:EST
DTSTART:20251102T060000
END:STANDARD
BEGIN:DAYLIGHT
TZOFFSETFROM:-0500
TZOFFSETTO:-0400
TZNAME:EDT
DTSTART:20260308T070000
END:DAYLIGHT
BEGIN:STANDARD
TZOFFSETFROM:-0400
TZOFFSETTO:-0500
TZNAME:EST
DTSTART:20261101T060000
END:STANDARD
END:VTIMEZONE
BEGIN:VEVENT
DTSTART;TZID=America/New_York:20250910T163000
DTEND;TZID=America/New_York:20250910T180000
DTSTAMP:20260422T081222
CREATED:20250804T182606Z
LAST-MODIFIED:20250818T201815Z
UID:10000923-1757521800-1757527200@wp.natlands.org
SUMMARY:Silent Sensory Forest & Meadow Meander
DESCRIPTION:Escape the hustle and bustle for a couple hours. and instead immerse yourself in the soothing sights\, sounds\, and scents of nature.   \nThis unique afternoon experience invites you to step into the peaceful embrace of the meadows and forest\, guided by the rhythm of your footsteps and the sensory wonders that surround you.  \nThe stroll is perfect for those seeking a calm\, reflective experience or anyone wishing to reconnect with nature on a deeper level. All ages and fitness levels are welcome\, as the pace is leisurely\, with plenty of time to pause and soak in the natural beauty around you.  \nAfter the stroll\, we’ll pause for a quiet reflection\, whether written or drawn\, and a voluntary open share before we part ways. 
URL:https://wp.natlands.org/event/sensorywalk-greenhills-2025-0910/
LOCATION:Green Hills Preserve\, 553 Gunhart Road\, Mohnton\, Pennsylvania\, 19540
CATEGORIES:general
ATTACH;FMTTYPE=image/jpeg:https://wp.natlands.org/wp-content/uploads/2025/08/GreenHillsSeptember2023_22-e1755537358913.jpg
END:VEVENT
END:VCALENDAR